{"text_format":"1","workbook":"xlsx","n_sheets":16,"sheets":["Apoio Cativo","Apoio Livre","Por Segmento","Por Empresa","Por Empresa e Segmento >>>","EMG","ENF","ESE","EBO","EPB","EMT","EMS","ETO","ESS","EAC","ERO"],"not_rendered":{"charts":0,"images":0,"macros":1,"external_links":0,"defined_names":14,"comments":0,"pivot_tables":0},"unopened":[],"bounds":{"document_bytes":16777216,"sheet_cells":100000,"rows_first":2000,"rows_last":500,"rows_between":2000,"halvings":0,"cell_chars":16384,"cell_head_chars":4096},"cells_cut":0,"cells_raw":0,"read":"whole","date_system":"1900"}

{"sheet":"Apoio Cativo","index":0,"n_rows":162,"n_cols":1,"rows_kept":162,"cut":false,"hidden":true,"merged":[]}
[]
[]
[]
[]
[]
["Apoio"]
[{"$f":"$B$1&\"Residencial\"&B7","v":"Residencial"}]
[{"$f":"$B$1&\"Residencial\"&B8","v":"Residencial"}]
["Residencial"]
["Residencial"]
["Residencial"]
["Residencial"]
["Residencial"]
["Residencial"]
["Residencial"]
["Residencial"]
["Residencial"]
["Residencial"]
[]
[]
[]
[]
[]
["Apoio"]
[{"$f":"$B$1&\"Industrial\"&B25","v":"Industrial"}]
[{"$f":"$B$1&\"Industrial\"&B26","v":"Industrial"}]
["Industrial"]
["Industrial"]
["Industrial"]
["Industrial"]
["Industrial"]
["Industrial"]
["Industrial"]
["Industrial"]
["Industrial"]
["Industrial"]
[]
[]
[]
[]
[]
["Apoio"]
[{"$f":"$B$1&\"Comercial\"&B43","v":"Comercial"}]
[{"$f":"$B$1&\"Comercial\"&B44","v":"Comercial"}]
["Comercial"]
["Comercial"]
["Comercial"]
["Comercial"]
["Comercial"]
["Comercial"]
["Comercial"]
["Comercial"]
["Comercial"]
["Comercial"]
[]
[]
[]
[]
[]
["Apoio"]
[{"$f":"$B$1&\"Rural\"&B61","v":"Rural"}]
[{"$f":"$B$1&\"Rural\"&B62","v":"Rural"}]
["Rural"]
["Rural"]
["Rural"]
["Rural"]
["Rural"]
["Rural"]
["Rural"]
["Rural"]
["Rural"]
["Rural"]
[]
[]
[]
[]
[]
["Apoio"]
[{"$f":"$B$1&\"Poder Público\"&B79","v":"Poder Público"}]
[{"$f":"$B$1&\"Poder Público\"&B80","v":"Poder Público"}]
["Poder Público"]
["Poder Público"]
["Poder Público"]
["Poder Público"]
["Poder Público"]
["Poder Público"]
["Poder Público"]
["Poder Público"]
["Poder Público"]
["Poder Público"]
[]
[]
[]
[]
[]
["Apoio"]
[{"$f":"$B$1&\"Iluminação Pública\"&B97","v":"Iluminação Pública"}]
[{"$f":"$B$1&\"Iluminação Pública\"&B98","v":"Iluminação Pública"}]
["Iluminação Pública"]
["Iluminação Pública"]
["Iluminação Pública"]
["Iluminação Pública"]
["Iluminação Pública"]
["Iluminação Pública"]
["Iluminação Pública"]
["Iluminação Pública"]
["Iluminação Pública"]
["Iluminação Pública"]
[]
[]
[]
[]
[]
["Apoio"]
[{"$f":"$B$1&\"Serviço Público\"&B115","v":"Serviço Público"}]
[{"$f":"$B$1&\"Serviço Público\"&B116","v":"Serviço Público"}]
["Serviço Público"]
["Serviço Público"]
["Serviço Público"]
["Serviço Público"]
["Serviço Público"]
["Serviço Público"]
["Serviço Público"]
["Serviço Público"]
["Serviço Público"]
["Serviço Público"]
[]
[]
[]
[]
[]
["Apoio"]
[{"$f":"$B$1&\"Próprio\"&B133","v":"Próprio"}]
[{"$f":"$B$1&\"Próprio\"&B134","v":"Próprio"}]
["Próprio"]
["Próprio"]
["Próprio"]
["Próprio"]
["Próprio"]
["Próprio"]
["Próprio"]
["Próprio"]
["Próprio"]
["Próprio"]
[]
[]
[]
[]
[]
["Apoio"]
[{"$f":"$B$1&\"Outros\"&B151","v":"Outros"}]
[{"$f":"$B$1&\"Outros\"&B152","v":"Outros"}]
["Outros"]
["Outros"]
["Outros"]
["Outros"]
["Outros"]
["Outros"]
["Outros"]
["Outros"]
["Outros"]
["Outros"]

{"sheet":"Apoio Livre","index":1,"n_rows":162,"n_cols":1,"rows_kept":162,"cut":false,"hidden":true,"merged":[]}
[]
[]
[]
[]
[]
["Apoio"]
[{"$f":"$C$1&B7","v":""}]
[{"$f":"$C$1&B8","v":""}]
[""]
[""]
[""]
[""]
[""]
[""]
[""]
[""]
[""]
[""]
[]
[]
[]
[]
[]
["Apoio"]
[{"$f":"$C$1&B25","v":""}]
[{"$f":"$C$1&B26","v":""}]
[""]
[""]
[""]
[""]
[""]
[""]
[""]
[""]
[""]
[""]
[]
[]
[]
[]
[]
["Apoio"]
[{"$f":"$C$1&B43","v":""}]
[{"$f":"$C$1&B44","v":""}]
[""]
[""]
[""]
[""]
[""]
[""]
[""]
[""]
[""]
[""]
[]
[]
[]
[]
[]
["Apoio"]
[{"$f":"$C$1&B61","v":""}]
[{"$f":"$C$1&B62","v":""}]
[""]
[""]
[""]
[""]
[""]
[""]
[""]
[""]
[""]
[""]
[]
[]
[]
[]
[]
["Apoio"]
[{"$f":"$C$1&B79","v":""}]
[{"$f":"$C$1&B80","v":""}]
[""]
[""]
[""]
[""]
[""]
[""]
[""]
[""]
[""]
[""]
[]
[]
[]
[]
[]
["Apoio"]
[{"$f":"$C$1&B97","v":""}]
[{"$f":"$C$1&B98","v":""}]
[""]
[""]
[""]
[""]
[""]
[""]
[""]
[""]
[""]
[""]
[]
[]
[]
[]
[]
["Apoio"]
[{"$f":"$C$1&B115","v":""}]
[{"$f":"$C$1&B116","v":""}]
[""]
[""]
[""]
[""]
[""]
[""]
[""]
[""]
[""]
[""]
[]
[]
[]
[]
[]
["Apoio"]
[{"$f":"$C$1&B133","v":""}]
[{"$f":"$C$1&B134","v":""}]
[""]
[""]
[""]
[""]
[""]
[""]
[""]
[""]
[""]
[""]
[]
[]
[]
[]
[]
["Apoio"]
[{"$f":"$C$1&B151","v":""}]
[{"$f":"$C$1&B152","v":""}]
[""]
[""]
[""]
[""]
[""]
[""]
[""]
[""]
[""]
[""]

{"sheet":"Por Segmento","index":2,"n_rows":24,"n_cols":8,"rows_kept":24,"cut":false,"hidden":false,"merged":[[1,1,2,1],[1,2,1,4],[1,5,1,7],[24,5,24,6]]}
[]
[null,"Descrição\nValores em GWh","Mês",null,null,"Acumulado"]
[null,null,"2021-04-01","2020-04-01","Var. %","4M21","4M20","Var. %"]
[]
[]
[]
[null,"Residencial",1261.6481839999999,1201.987944,4.9634640927812779,4857.68235,4759.3307729999997,2.0665001381697579]
[null,"Industrial",619.53856567100001,511.45207298989999,21.133259280627549,2463.6855374219999,2314.49372384356,6.4459804769176454]
[null,"Cativo",167.066451,164.70792499999999,1.4319444556174288,646.87563999999998,718.62249900000006,-9.9839427654769395]
[null,"Livre",452.4721146710001,346.7441479899,30.491636929999387,1816.8098974220002,1595.8712248435602,13.844392275454309]
[null,"Comercial",555.08145672799992,506.85228870500003,9.5154286757241913,2243.5892362889999,2358.0990488719999,-4.8560221691186349]
[null,"Cativo",464.58721200000002,452.94581199999999,2.5701529170999438,1875.412761,2074.591465,-9.6008639464830736]
[null,"Livre",90.494244727999998,53.906476704999996,67.872675528813346,368.17647528900011,283.507583872,29.864771256075826]
[null,"Rural",286.51901287200002,284.47685586099988,0.71786402616809131,1177.420018325,1152.4728678259999,2.1646627174885191]
[null,"Cativo",280.49121200000002,279.27475300000003,0.43557786263621612,1147.5503269999999,1125.7199540000001,1.9392365678897683]
[null,"Livre",6.0278008720000011,5.2021028610000002,15.872389167662027,29.869691324999994,26.752913826000004,11.650235631420935]
[null,"Outros",371.60127530300002,365.64552097799998,1.6288328403613495,1531.2758061389998,1539.1085120749999,-0.5089118716808505]
[null,"Cativo",354.99687699999998,356.111985,-0.31313408336988147,1467.5822229999997,1501.5023100000001,-2.2590765777776523]
[null,"Livre",16.604398303000004,9.5335359779999997,74.168307974260884,63.693583139000005,37.606202074999992,69.369890136665774]
[null,"1      Vendas de energia no mercado cativo",2528.7899359999997,2455.0284189999998,3.0045076639090285,9995.103301000001,10179.767001,-1.8140267845212832]
[null,"2     Energia associada aos consumidores livres (TUSD)",565.59855857400021,415.38626353389998,36.162075693637206,2278.5496471750007,1943.7379246165601,17.225147398638562]
[null,"3     Mercado cativo + TUSD (1+2)",3094.3884945740001,2870.4146825338998,7.8028381544642977,12273.652948175002,12123.50492561656,1.2384869184255853]
[null,"4    Fornecimento não faturado",22.264207999999961,-92.423714999999945,"-",-37.115088000000021,-66.096886999999924,-43.847449275485452]
[null,"5     Mercado cativo + TUSD + fornecimento não faturado (3+4)",3116.6527025740002,2777.9909675338999,12.190886831455018,12236.537860175002,12057.408038616561,1.4856412007019815]

{"sheet":"Por Empresa","index":3,"n_rows":24,"n_cols":10,"rows_kept":24,"cut":false,"hidden":false,"merged":[[1,1,4,1],[1,2,1,5],[1,6,1,9],[2,2,2,5],[2,6,2,9],[3,2,4,2],[3,3,4,3],[3,4,4,4],[3,5,4,5],[3,9,4,9],[3,6,4,6],[3,7,4,7],[3,8,4,8]]}
[]
[null,"Empresas",{"$f":"'Por Segmento'!C3","v":"2021-04-01"},null,null,null,{"$f":"'Por Segmento'!F3","v":"4M21"}]
[null,null,"Vendas de energia (GWh)",null,null,null,"Vendas de energia (GWh)"]
[null,null,"Mercado Cativo + TUSD","Var. (1) (%)","Mercado Cativo + TUSD + Não Faturado","Var. (1) (%)","Mercado Cativo + TUSD","Var. (1) (%)","Mercado Cativo + TUSD + Não Faturado","Var. (1) (%)"]
[]
[]
[]
[]
[null,"Região Norte",573.26012266099997,7.2086011098466463,587.41753966099998,13.135424248728889,2160.2370421639998,-1.2907095107922761,2171.8577841639999,0.20009847560644722]
[null,"Energisa Tocantins (ETO)",212.53930176900002,11.136465796284757,221.729948769,18.760241502895305,782.25884463000011,2.9242621331937668,782.88975463000008,3.5027755675312688]
[null,"Energisa Acre (EAC)",86.435578864999997,0.48740157712605647,86.968651864999998,5.6168293605800113,350.81204738899999,-3.7831217613960244,343.29529638900004,-4.557405117225799]
[null,"Energisa Rondõnia (ERO)",274.28524202699998,6.5364928968989933,278.71893902699998,11.412319234976543,1027.1661501450001,-3.4477645635187959,1045.6727331449999,-0.5483171579420576]
[null,"Região Nordeste",698.92946360199994,12.840484992555368,673.289221602,12.370927513023089,2798.666164324,1.9589262697951915,2786.8500803239995,1.9418954986695214]
[null,"Energisa Paraíba (EPB)",385.75890599999997,11.778368726997602,369.85676899999999,12.889272335043245,1562.2092901409999,2.6775334179236943,1552.5193541409997,3.0213367830988158]
[null,"Energisa Sergipe (ESE)",252.81386560199996,13.539703058067376,245.13920160199999,10.591676733520373,1001.0679871399999,0.32719819867161881,999.14331914000002,-0.28904692818625399]
[null,"Energisa Borborema (EBO)",60.35669200000001,16.925260782133634,58.293251000000005,16.873321151696086,235.38888704299998,4.3292863936222448,235.18740704299998,4.6508038013910014]
[null,"Região Centro-Oeste",1273.3067717919998,2.6751763114863492,1310.3498367919999,9.3227543885357367,5098.3341572689997,0.26375740938768821,5070.7634432690002,0.14989208555102884]
[null,"Energisa Mato Grosso (EMT)",745.89565618799998,-1.3195212676756607,774.73553218799998,4.9100117222904416,3074.5317340739998,-6.533851536323354E-2,3050.135488074,-0.54464069419029038]
[null,"Energisa Mato Grosso do Sul (EMS)",527.41111560399997,8.9103813093799555,535.61430460399993,16.404889307405824,2023.8024231949998,0.76788372100720093,2020.6279551949999,1.2168570998208228]
[null,"Região Sul/Sudeste",548.89213651900002,15.271599172359052,545.59610451899994,18.350238871235081,2216.415584418,5.2827520918245829,2207.0665524180004,5.4524246324751502]
[null,"Energisa Minas Gerais (EMG)",133.235759,17.385624176477066,130.63865100000001,19.119372806703705,535.03661799999998,7.581316590201892,535.63730700000008,8.2157129982669996]
[null,"Energisa Nova Friburgo (ENF)",27.846600000000002,13.798402663820774,26.793711000000002,10.155252993298003,111.352322,6.3361522123627667,110.66957099999999,5.659244493661264]
[null,"Energisa Sul-Sudeste (ESS)",387.80977751900002,14.668707454453589,388.16374251899998,18.701852621728076,1570.0266444179999,4.4488654484262646,1560.759674418,4.5219538676052551]
[null,"Total (Distribuidoras)",3094.3884945739997,7.8028381544642755,3116.6527025739997,12.190886831454995,12273.652948174999,1.2384869184255631,12236.537860175,1.4856412007019815]

{"sheet":"Por Empresa e Segmento >>>","index":4,"n_rows":0,"n_cols":0,"rows_kept":0,"cut":false,"hidden":false,"merged":[]}

{"sheet":"EMG","index":5,"n_rows":24,"n_cols":8,"rows_kept":24,"cut":false,"hidden":false,"merged":[[1,1,2,1],[1,2,1,4],[1,5,1,7],[24,5,24,6]]}
[]
[null,"Descrição\nValores em GWh","Mês",null,null,"Acumulado"]
[null,null,{"$f":"'Por Segmento'!C3","v":"2021-04-01"},{"$f":"'Por Segmento'!D3","v":"2020-04-01"},{"$f":"'Por Segmento'!E3","v":"Var. %"},{"$f":"'Por Segmento'!F3","v":"4M21"},{"$f":"'Por Segmento'!G3","v":"4M20"},{"$f":"'Por Segmento'!H3","v":"Var. %"}]
[]
[]
[]
[null,"Residencial",51.075952000000001,46.547561999999999,{"$f":"IF(OR(AND(C7<=0,D7>=0),AND(C7>=0,D7<=0),C7=D7),\"-\",IF((C7/D7-1)*100>0,(C7/D7-1)*100,(C7/D7-1)*100))","v":9.7285224089717062},202.44133499999995,188.69143400000002,{"$f":"IF(OR(AND(F7<=0,G7>=0),AND(F7>=0,G7<=0),F7=G7),\"-\",IF((F7/G7-1)*100>0,(F7/G7-1)*100,(F7/G7-1)*100))","v":7.2869767898419369}]
[null,"Industrial",35.544992999999998,22.650073739000003,{"$f":"IF(OR(AND(C8<=0,D8>=0),AND(C8>=0,D8<=0),C8=D8),\"-\",IF((C8/D8-1)*100>0,(C8/D8-1)*100,(C8/D8-1)*100))","v":56.931025521550026},142.47926999999999,118.489482494,{"$f":"IF(OR(AND(F8<=0,G8>=0),AND(F8>=0,G8<=0),F8=G8),\"-\",IF((F8/G8-1)*100>0,(F8/G8-1)*100,(F8/G8-1)*100))","v":20.24634338935083}]
[null,"Cativo Industrial",8.3022670000000005,6.6974760000000009,23.961131029062276,34.123913000000002,33.873667000000005,0.73876265005496933]
[null,"Livre Industrial",27.242725999999994,15.952597739000003,70.772976575460973,108.35535699999998,84.615815493999989,28.055678914639003]
[null,"Comercial",18.523716,16.912957309000003,9.5238145616488588,77.506042000000022,77.993232618000008,-0.62465755251635002]
[null,"Cativo Comercial",17.270924000000001,15.850521000000001,8.9612385611804299,72.102878000000004,73.356155999999999,-1.7084837433411826]
[null,"Livre Comercial",1.2527920000000001,1.062436309,17.916903760486981,5.4031640000000003,4.637076618,16.520912745461992]
[null,"Rural",15.693205000000001,14.540467,7.9277921403762441,62.187203000000004,58.933619,5.5207605696164785]
[null,"Cativo Rural",15.693205000000001,14.540467,7.9277921403762441,62.187203000000004,58.933619,5.5207605696164785]
[null,"Livre Rural",0,0,"-",0,0,"-"]
[null,"Outros",12.397893,12.851560000000001,-3.5300539389770624,50.422767999999998,53.224514999999997,-5.2640160272010021]
[null,"Cativo Outros",12.397893,12.851560000000001,-3.5300539389770624,50.422767999999998,53.224514999999997,-5.2640160272010021]
[null,"Livre Outros",0,0,"-",0,0,"-"]
[null,"1      Vendas de energia no mercado cativo",104.74024100000001,96.487586000000022,8.55307438202464,421.27809699999995,408.07939100000004,3.2343476027192786]
[null,"2     Energia associada aos consumidores livres (TUSD)",28.495517999999993,17.015034048000004,67.472588768339477,113.75852099999999,89.252892111999984,27.456397555441491]
[null,"3     Mercado cativo + TUSD (1+2)",133.235759,113.50262004800003,17.385624176477045,535.03661799999998,497.33228311200003,7.581316590201892]
[null,{"$f":"'Por Segmento'!B23","v":"4    Fornecimento não faturado"},-2.5971079999999929,-3.8322550000000049,-32.230292608399246,0.6006890000000058,-2.3604420000000026,"-"]
[null,"5     Mercado cativo + TUSD + fornecimento não faturado (3+4)",130.63865100000001,109.67036504800002,19.119372806703684,535.63730699999996,494.97184111200005,8.2157129982669765]

{"sheet":"ENF","index":6,"n_rows":24,"n_cols":8,"rows_kept":24,"cut":false,"hidden":false,"merged":[[1,1,2,1],[1,2,1,4],[1,5,1,7],[24,5,24,6]]}
[]
[null,"Descrição\nValores em GWh","Mês",null,null,"Acumulado"]
[null,null,{"$f":"'Por Segmento'!C3","v":"2021-04-01"},{"$f":"'Por Segmento'!D3","v":"2020-04-01"},{"$f":"'Por Segmento'!E3","v":"Var. %"},{"$f":"'Por Segmento'!F3","v":"4M21"},{"$f":"'Por Segmento'!G3","v":"4M20"},{"$f":"'Por Segmento'!H3","v":"Var. %"}]
[]
[]
[]
[null,"Residencial",14.969554,13.877765999999999,{"$f":"IF(OR(AND(C7<=0,D7>=0),AND(C7>=0,D7<=0),C7=D7),\"-\",IF((C7/D7-1)*100>0,(C7/D7-1)*100,(C7/D7-1)*100))","v":7.86717401057202},58.296759000000009,55.189274999999995,{"$f":"IF(OR(AND(F7<=0,G7>=0),AND(F7>=0,G7<=0),F7=G7),\"-\",IF((F7/G7-1)*100>0,(F7/G7-1)*100,(F7/G7-1)*100))","v":5.6305939876905686}]
[null,"Industrial",3.7842419999999999,2.7095739999999999,{"$f":"IF(OR(AND(C8<=0,D8>=0),AND(C8>=0,D8<=0),C8=D8),\"-\",IF((C8/D8-1)*100>0,(C8/D8-1)*100,(C8/D8-1)*100))","v":39.661880428436348},16.21819,13.378325,{"$f":"IF(OR(AND(F8<=0,G8>=0),AND(F8>=0,G8<=0),F8=G8),\"-\",IF((F8/G8-1)*100>0,(F8/G8-1)*100,(F8/G8-1)*100))","v":21.2273584323897}]
[null,"Cativo Industrial",1.7563709999999999,1.2184139999999999,44.152233969734425,7.5710299999999995,6.6279589999999997,14.228678843668163]
[null,"Livre Industrial",2.0278709999999998,1.49116,35.99285120309019,8.6471599999999995,6.7503659999999988,28.099128254675399]
[null,"Comercial",5.4222440000000001,4.3959169999999999,23.347278849896401,22.291327999999996,21.815959000000003,2.1789965776888076]
[null,"Cativo Comercial",5.1638019999999996,4.2215660000000002,22.319584722825581,21.163520000000002,21.059913000000002,0.49196309595391785]
[null,"Livre Comercial",0.25844200000000001,0.17435100000000001,48.230867617621918,1.1278079999999999,0.756046,49.171875785335793]
[null,"Rural",0.453629,0.40574500000000002,11.801500942710309,1.78298,1.622406,9.897276020922007]
[null,"Cativo Rural",0.453629,0.40574500000000002,11.801500942710309,1.78298,1.622406,9.897276020922007]
[null,"Livre Rural",0,0,"-",0,0,"-"]
[null,"Outros",3.2169310000000002,3.0811130000000002,4.4080824039884225,12.763065000000001,12.711311000000002,0.40714919177100573]
[null,"Cativo Outros",2.66988,2.6891350000000003,-0.71602950391111975,10.601367,11.221070000000001,-5.5226729714724314]
[null,"Livre Outros",0.54705100000000006,0.39197799999999999,39.56165907270308,2.1616979999999999,1.4902409999999999,45.056940454597608]
[null,"1      Vendas de energia no mercado cativo",25.013235999999999,22.412625999999999,11.603325732558067,99.415655999999998,95.720622999999989,3.8602266514709216]
[null,"2     Energia associada aos consumidores livres (TUSD)",2.833364,2.0574889999999999,37.709800635629165,11.936665999999999,8.9966529999999985,32.678964054743489]
[null,"3     Mercado cativo + TUSD (1+2)",27.846599999999999,24.470115,13.798402663820752,111.352322,104.71727599999998,6.3361522123627667]
[null,{"$f":"'Por Segmento'!B23","v":"4    Fornecimento não faturado"},-1.0528890000000011,-0.14652599999999985,618.56803570697491,-0.682751000000002,2.4690999999998894E-2,"-"]
[null,"5     Mercado cativo + TUSD + fornecimento não faturado (3+4)",26.793710999999998,24.323588999999998,10.155252993297982,110.669571,104.74196699999999,5.6592444936612862]

{"sheet":"ESE","index":7,"n_rows":24,"n_cols":8,"rows_kept":24,"cut":false,"hidden":false,"merged":[[1,1,2,1],[1,2,1,4],[1,5,1,7],[24,5,24,6]]}
[]
[null,"Descrição\nValores em GWh","Mês",null,null,"Acumulado"]
[null,null,{"$f":"'Por Segmento'!C3","v":"2021-04-01"},{"$f":"'Por Segmento'!D3","v":"2020-04-01"},{"$f":"'Por Segmento'!E3","v":"Var. %"},{"$f":"'Por Segmento'!F3","v":"4M21"},{"$f":"'Por Segmento'!G3","v":"4M20"},{"$f":"'Por Segmento'!H3","v":"Var. %"}]
[]
[]
[]
[null,"Residencial",110.49109799999999,98.677988000000013,{"$f":"IF(OR(AND(C7<=0,D7>=0),AND(C7>=0,D7<=0),C7=D7),\"-\",IF((C7/D7-1)*100>0,(C7/D7-1)*100,(C7/D7-1)*100))","v":11.971372987458938},416.53137199999998,405.265265,{"$f":"IF(OR(AND(F7<=0,G7>=0),AND(F7>=0,G7<=0),F7=G7),\"-\",IF((F7/G7-1)*100>0,(F7/G7-1)*100,(F7/G7-1)*100))","v":2.7799340266676964}]
[null,"Industrial",38.243863622000006,33.907528316999993,{"$f":"IF(OR(AND(C8<=0,D8>=0),AND(C8>=0,D8<=0),C8=D8),\"-\",IF((C8/D8-1)*100>0,(C8/D8-1)*100,(C8/D8-1)*100))","v":12.788709529222553},151.08428394500001,161.770873908,{"$f":"IF(OR(AND(F8<=0,G8>=0),AND(F8>=0,G8<=0),F8=G8),\"-\",IF((F8/G8-1)*100>0,(F8/G8-1)*100,(F8/G8-1)*100))","v":-6.6060037291246321}]
[null,"Cativo Industrial",15.167081999999999,14.127156999999999,7.3611767746334156,58.351069000000003,60.916445999999993,-4.2113044480631583]
[null,"Livre Industrial",23.076781622000002,19.780371316999997,16.665057759390734,92.733214945000014,100.85442790799999,-8.0524109168594862]
[null,"Comercial",46.921886980000004,38.694614690000002,21.262060252860483,192.26842619500002,197.97995815800002,-2.8849041166287392]
[null,"Cativo Comercial",36.362724,31.205787000000001,16.525579053654372,147.121208,159.67461799999998,-7.8618694425183993]
[null,"Livre Comercial",10.559162980000004,7.4888276900000008,40.998877489194861,45.147218195000001,38.305340158,17.861420910972093]
[null,"Rural",11.068833,8.6514089999999992,27.942546699618532,54.70923299999999,46.742325999999998,17.044310118413854]
[null,"Cativo Rural",10.889294,8.6514089999999992,25.86728936292344,54.027282,46.742325999999998,15.585351914237222]
[null,"Livre Rural",0.17953899999999998,0,"-",0.68195099999999997,0,"-"]
[null,"Outros",46.088184000000005,42.734063999999996,7.8488205568279401,186.47467200000003,186.04477000000003,0.23107448814605469]
[null,"Cativo Outros",46.088184000000005,42.734063999999996,7.8488205568279401,186.47467200000003,186.04477000000003,0.23107448814605469]
[null,"Livre Outros",0,0,"-",0,0,"-"]
[null,"1      Vendas de energia no mercado cativo",218.99838199999999,195.39640500000002,12.079023152959234,862.50560300000006,858.64342499999998,0.44979998536647248]
[null,"2     Energia associada aos consumidores livres (TUSD)",33.815483602000008,27.269199006999997,24.006149184358438,138.56238414000001,139.159768066,-0.42927919060390396]
[null,"3     Mercado cativo + TUSD (1+2)",252.81386560199999,222.66560400700001,13.539703058067376,1001.06798714,997.80319306599995,0.32719819867164102]
[null,{"$f":"'Por Segmento'!B23","v":"4    Fornecimento não faturado"},-7.6746639999999902,-1.0040749999999972,664.35166695715077,-1.9246679999999905,4.2364910000000089,"-"]
[null,"5     Mercado cativo + TUSD + fornecimento não faturado (3+4)",245.13920160200001,221.66152900700001,10.591676733520394,999.14331914000002,1002.0396840659999,-0.28904692818624289]

{"sheet":"EBO","index":8,"n_rows":24,"n_cols":8,"rows_kept":24,"cut":false,"hidden":false,"merged":[[1,1,2,1],[1,2,1,4],[1,5,1,7],[24,5,24,6]]}
[]
[null,"Descrição\nValores em GWh","Mês",null,null,"Acumulado"]
[null,null,{"$f":"'Por Segmento'!C3","v":"2021-04-01"},{"$f":"'Por Segmento'!D3","v":"2020-04-01"},{"$f":"'Por Segmento'!E3","v":"Var. %"},{"$f":"'Por Segmento'!F3","v":"4M21"},{"$f":"'Por Segmento'!G3","v":"4M20"},{"$f":"'Por Segmento'!H3","v":"Var. %"}]
[]
[]
[]
[null,"Residencial",25.801266999999999,24.887893999999999,{"$f":"IF(OR(AND(C7<=0,D7>=0),AND(C7>=0,D7<=0),C7=D7),\"-\",IF((C7/D7-1)*100>0,(C7/D7-1)*100,(C7/D7-1)*100))","v":3.6699489317979284},98.09507099999999,94.643117000000004,{"$f":"IF(OR(AND(F7<=0,G7>=0),AND(F7>=0,G7<=0),F7=G7),\"-\",IF((F7/G7-1)*100>0,(F7/G7-1)*100,(F7/G7-1)*100))","v":3.6473376082911457}]
[null,"Industrial",12.859755999999999,7.0738430909999996,{"$f":"IF(OR(AND(C8<=0,D8>=0),AND(C8>=0,D8<=0),C8=D8),\"-\",IF((C8/D8-1)*100>0,(C8/D8-1)*100,(C8/D8-1)*100))","v":81.793062619121073},50.958691414,41.527027574999998,{"$f":"IF(OR(AND(F8<=0,G8>=0),AND(F8>=0,G8<=0),F8=G8),\"-\",IF((F8/G8-1)*100>0,(F8/G8-1)*100,(F8/G8-1)*100))","v":22.712109172672946}]
[null,"Cativo Industrial",3.9298690000000001,3.0189100000000004,30.175096309595162,14.788079,15.578473999999998,-5.0736355820216961]
[null,"Livre Industrial",8.929886999999999,4.0549330909999997,120.22279528656222,36.170612413999997,25.948553574999998,39.393559295915395]
[null,"Comercial",12.979996999999999,11.470856765999999,13.156299174383745,51.989867629000003,54.616683741000003,-4.809548899850336]
[null,"Cativo Comercial",10.063179,9.4704069999999998,6.2592030099656748,40.064637000000005,44.362195,-9.6874331849449611]
[null,"Livre Comercial",2.9168179999999997,2.000449766,45.808110234746067,11.925230629,10.254488740999999,16.292785824806245]
[null,"Rural",2.1548319999999999,2.1091369999999996,2.1665259297997341,8.7533020000000015,8.6395049999999998,1.3171703702932192]
[null,"Cativo Rural",2.1548319999999999,2.1091369999999996,2.1665259297997341,8.7533020000000015,8.6395049999999998,1.3171703702932192]
[null,"Livre Rural",0,0,"-",0,0,"-"]
[null,"Outros",6.5608400000000007,6.0781600000000005,7.9412190531344962,25.591954999999999,26.194770000000002,-2.30127998833356]
[null,"Cativo Outros",6.5608400000000007,6.0781600000000005,7.9412190531344962,25.591954999999999,26.194770000000002,-2.30127998833356]
[null,"Livre Outros",0,0,"-",0,0,"-"]
[null,"1      Vendas de energia no mercado cativo",48.509986999999995,45.564508000000004,6.4644152417929979,187.29304400000001,189.41806100000002,-1.1218660928009494]
[null,"2     Energia associada aos consumidores livres (TUSD)",11.846704999999998,6.0553828569999997,95.639239991328566,48.095843042999995,36.203042315999994,32.850279883091375]
[null,"3     Mercado cativo + TUSD (1+2)",60.356691999999995,51.619890857000001,16.925260782133613,235.38888704300001,225.62110331600002,4.3292863936222448]
[null,{"$f":"'Por Segmento'!B23","v":"4    Fornecimento não faturado"},-2.0634410000000027,-1.7425959999999978,18.411898110635239,-0.20148000000000321,-0.88569899999999691,-77.251865475742449]
[null,"5     Mercado cativo + TUSD + fornecimento não faturado (3+4)",58.293250999999991,49.877294857000003,16.87332115169604,235.18740704300001,224.73540431600003,4.6508038013910014]

{"sheet":"EPB","index":9,"n_rows":24,"n_cols":8,"rows_kept":24,"cut":false,"hidden":false,"merged":[[1,1,2,1],[1,2,1,4],[1,5,1,7],[24,5,24,6]]}
[]
[null,"Descrição\nValores em GWh","Mês",null,null,"Acumulado"]
[null,null,{"$f":"'Por Segmento'!C3","v":"2021-04-01"},{"$f":"'Por Segmento'!D3","v":"2020-04-01"},{"$f":"'Por Segmento'!E3","v":"Var. %"},{"$f":"'Por Segmento'!F3","v":"4M21"},{"$f":"'Por Segmento'!G3","v":"4M20"},{"$f":"'Por Segmento'!H3","v":"Var. %"}]
[]
[]
[]
[null,"Residencial",175.998177,170.219919,{"$f":"IF(OR(AND(C7<=0,D7>=0),AND(C7>=0,D7<=0),C7=D7),\"-\",IF((C7/D7-1)*100>0,(C7/D7-1)*100,(C7/D7-1)*100))","v":3.3945839205809847},690.03300100000001,665.89281099999994,{"$f":"IF(OR(AND(F7<=0,G7>=0),AND(F7>=0,G7<=0),F7=G7),\"-\",IF((F7/G7-1)*100>0,(F7/G7-1)*100,(F7/G7-1)*100))","v":3.6252366148461279}]
[null,"Industrial",60.729853999999989,41.305990555000001,{"$f":"IF(OR(AND(C8<=0,D8>=0),AND(C8>=0,D8<=0),C8=D8),\"-\",IF((C8/D8-1)*100>0,(C8/D8-1)*100,(C8/D8-1)*100))","v":47.024325488906051},255.18957693199999,234.60755017100001,{"$f":"IF(OR(AND(F8<=0,G8>=0),AND(F8>=0,G8<=0),F8=G8),\"-\",IF((F8/G8-1)*100>0,(F8/G8-1)*100,(F8/G8-1)*100))","v":8.7729600969782098}]
[null,"Cativo Industrial",14.818545999999998,11.593279000000001,27.820144758010201,57.778948000000007,58.422089,-1.1008524532561514]
[null,"Livre Industrial",45.911307999999991,29.712711555000006,54.517395408411026,197.41062893199998,176.18546117100001,12.047059740303713]
[null,"Comercial",63.784472999999998,54.277449259000001,17.515605229778906,257.56913820900002,268.92825818300003,-4.2238476725158343]
[null,"Cativo Comercial",52.816332000000003,48.382435000000001,9.164270049657496,213.72324,233.79194799999999,-8.5840030726806678]
[null,"Livre Comercial",10.968140999999999,5.8950142589999999,86.057921458880045,43.845898209000005,35.136310182999992,24.787998456975082]
[null,"Rural",26.822541000000001,23.351443000000003,14.864597446932915,118.613928,108.691011,9.1294734575612768]
[null,"Cativo Rural",26.822541000000001,23.351443000000003,14.864597446932915,118.613928,108.691011,9.1294734575612768]
[null,"Livre Rural",0,0,"-",0,0,"-"]
[null,"Outros",58.423860999999995,55.955714999999998,4.4108917203542042,240.80364599999999,243.35175499999997,-1.0470888118312427]
[null,"Cativo Outros",58.423860999999995,55.955714999999998,4.4108917203542042,240.80364599999999,243.35175499999997,-1.0470888118312427]
[null,"Livre Outros",0,0,"-",0,0,"-"]
[null,"1      Vendas de energia no mercado cativo",328.879457,309.502791,6.2605787616306197,1320.9527630000002,1310.1496139999997,0.82457368872685954]
[null,"2     Energia associada aos consumidores livres (TUSD)",56.879448999999994,35.607725814000005,59.739067013475243,241.25652714099999,211.32177135400002,14.165485929442712]
[null,"3     Mercado cativo + TUSD (1+2)",385.75890600000002,345.11051681399999,11.778368726997623,1562.2092901410001,1521.4713853539997,2.6775334179237165]
[null,{"$f":"'Por Segmento'!B23","v":"4    Fornecimento não faturado"},-15.902137000000018,-17.482601999999986,-9.0402160959791367,-9.6899360000000154,-14.483218999999982,-33.095425816594869]
[null,"5     Mercado cativo + TUSD + fornecimento não faturado (3+4)",369.85676899999999,327.62791481400001,12.889272335043245,1552.5193541410001,1506.9881663539998,3.0213367830988602]

{"sheet":"EMT","index":10,"n_rows":24,"n_cols":8,"rows_kept":24,"cut":false,"hidden":false,"merged":[[1,1,2,1],[1,2,1,4],[1,5,1,7],[24,5,24,6]]}
[]
[null,"Descrição\nValores em GWh","Mês",null,null,"Acumulado"]
[null,null,{"$f":"'Por Segmento'!C3","v":"2021-04-01"},{"$f":"'Por Segmento'!D3","v":"2020-04-01"},{"$f":"'Por Segmento'!E3","v":"Var. %"},{"$f":"'Por Segmento'!F3","v":"4M21"},{"$f":"'Por Segmento'!G3","v":"4M20"},{"$f":"'Por Segmento'!H3","v":"Var. %"}]
[]
[]
[]
[null,"Residencial",286.14725099999998,283.166314,{"$f":"IF(OR(AND(C7<=0,D7>=0),AND(C7>=0,D7<=0),C7=D7),\"-\",IF((C7/D7-1)*100>0,(C7/D7-1)*100,(C7/D7-1)*100))","v":1.0527159667727881},1105.6897950000002,1098.5442850000002,{"$f":"IF(OR(AND(F7<=0,G7>=0),AND(F7>=0,G7<=0),F7=G7),\"-\",IF((F7/G7-1)*100>0,(F7/G7-1)*100,(F7/G7-1)*100))","v":0.65045261238603214}]
[null,"Industrial",169.42305584300001,162.09092066489998,{"$f":"IF(OR(AND(C8<=0,D8>=0),AND(C8>=0,D8<=0),C8=D8),\"-\",IF((C8/D8-1)*100>0,(C8/D8-1)*100,(C8/D8-1)*100))","v":4.5234706225515176},664.67031938700006,649.5111410075599,{"$f":"IF(OR(AND(F8<=0,G8>=0),AND(F8>=0,G8<=0),F8=G8),\"-\",IF((F8/G8-1)*100>0,(F8/G8-1)*100,(F8/G8-1)*100))","v":2.3339366213063428}]
[null,"Cativo Industrial",39.460853,50.789150999999997,-22.30456264173425,173.53583300000003,194.36699099999998,-10.717436069172859]
[null,"Livre Industrial",129.96220284300003,111.30176966489998,16.765621278333363,491.13448638700004,455.14415000755997,7.9074588520674727]
[null,"Comercial",132.23398686800002,133.191703002,-0.71905089612496198,578.01961177299995,607.24435998199999,-4.8126833503840727]
[null,"Cativo Comercial",106.40837500000001,118.56666899999999,-10.254394512845755,473.80478599999998,532.97632399999998,-11.10209503415015]
[null,"Livre Comercial",25.825611868000006,14.625034001999996,76.584969747545983,104.21482577300002,74.268035982000001,40.322582110907156]
[null,"Rural",84.011642770999998,100.14796052999999,-16.112477651670453,396.33657563899999,405.326975554,-2.2180610857967076]
[null,"Cativo Rural",79.872441999999992,96.065212000000002,-16.856018597033863,373.112235,383.10151299999995,-2.6074754760887497]
[null,"Livre Rural",4.1392007710000005,4.0827485299999999,1.3827018878383113,23.224340638999998,22.225462554,4.4942960470364834]
[null,"Outros",74.079719705999992,77.272616999999997,-4.1319906300054559,329.81543227499998,315.91513933300007,4.4000084868828893]
[null,"Cativo Outros",70.052015999999995,73.447115000000011,-4.6225083177195092,314.13936099999995,301.03060199999999,4.3546267100113445]
[null,"Livre Outros",4.0277037060000005,3.8255019999999997,5.2856254159584948,15.676071275000002,14.884537333000001,5.3178269790429944]
[null,"1      Vendas de energia no mercado cativo",581.94093699999996,622.03446100000008,-6.4455470739586795,2440.2820099999999,2510.0197149999999,-2.7783727985578821]
[null,"2     Energia associada aos consumidores livres (TUSD)",163.95471918800004,133.83505419689996,22.505064291144251,634.24972407400014,566.52218587656,11.954966616646745]
[null,"3     Mercado cativo + TUSD (1+2)",745.89565618799998,755.86951519690001,-1.3195212676756607,3074.5317340740003,3076.5419008765598,-6.5338515363200234E-2]
[null,{"$f":"'Por Segmento'!B23","v":"4    Fornecimento não faturado"},28.83987599999999,-17.393253999999956,"-",-24.396245999999984,-9.7031609999999642,151.42575702907615]
[null,"5     Mercado cativo + TUSD + fornecimento não faturado (3+4)",774.73553218799998,738.47626119690005,4.9100117222904416,3050.1354880740005,3066.8387398765599,-0.54464069419025707]

{"sheet":"EMS","index":11,"n_rows":24,"n_cols":8,"rows_kept":24,"cut":false,"hidden":false,"merged":[[1,1,2,1],[1,2,1,4],[1,5,1,7],[24,5,24,6]]}
[]
[null,"Descrição\nValores em GWh","Mês",null,null,"Acumulado"]
[null,null,{"$f":"'Por Segmento'!C3","v":"2021-04-01"},{"$f":"'Por Segmento'!D3","v":"2020-04-01"},{"$f":"'Por Segmento'!E3","v":"Var. %"},{"$f":"'Por Segmento'!F3","v":"4M21"},{"$f":"'Por Segmento'!G3","v":"4M20"},{"$f":"'Por Segmento'!H3","v":"Var. %"}]
[]
[]
[]
[null,"Residencial",196.88478400000002,186.42440900000003,{"$f":"IF(OR(AND(C7<=0,D7>=0),AND(C7>=0,D7<=0),C7=D7),\"-\",IF((C7/D7-1)*100>0,(C7/D7-1)*100,(C7/D7-1)*100))","v":5.6110543979248861},748.31051799999989,750.79145199999994,{"$f":"IF(OR(AND(F7<=0,G7>=0),AND(F7>=0,G7<=0),F7=G7),\"-\",IF((F7/G7-1)*100>0,(F7/G7-1)*100,(F7/G7-1)*100))","v":-0.33044249416948057}]
[null,"Industrial",117.48888468899997,96.753308461999978,{"$f":"IF(OR(AND(C8<=0,D8>=0),AND(C8>=0,D8<=0),C8=D8),\"-\",IF((C8/D8-1)*100>0,(C8/D8-1)*100,(C8/D8-1)*100))","v":21.431387263768787},465.74505582,415.930192105,{"$f":"IF(OR(AND(F8<=0,G8>=0),AND(F8>=0,G8<=0),F8=G8),\"-\",IF((F8/G8-1)*100>0,(F8/G8-1)*100,(F8/G8-1)*100))","v":11.976736640081276}]
[null,"Cativo Industrial",24.799036000000001,23.262987999999996,6.6029694895600066,90.746097000000006,92.384781000000004,-1.7737596845090686]
[null,"Livre Industrial",92.689848688999973,73.490320461999971,26.125247660237918,374.99895882000004,323.54541110500003,15.903037394123887]
[null,"Comercial",99.899172864999997,90.810139637999995,10.008830801529388,382.10184978799998,404.983369084,-5.6499898619920881]
[null,"Cativo Comercial",85.000630000000001,81.560394000000002,4.218022781989017,320.33125000000001,355.81177800000006,-9.9717126283548794]
[null,"Livre Comercial",14.898542865,9.2497456379999967,61.069757462232218,61.770599787999991,49.171591083999985,25.622536156043996]
[null,"Rural",56.901662030000004,55.216064240999991,3.052730780743329,207.34469887899999,208.38733172199997,-0.50033408191574313]
[null,"Cativo Rural",55.867549000000004,54.548073999999993,2.4189213353344341,203.54613000000001,205.54433599999999,-0.97215327791858597]
[null,"Livre Rural",1.0341130299999999,0.66799024099999993,54.809601477396441,3.7985688789999998,2.8429957219999999,33.611487685523841]
[null,"Outros",56.236612020000003,55.057642399000002,2.1413369146031869,220.30030070800001,228.28805215900002,-3.4989791955632565]
[null,"Cativo Outros",48.851987000000001,50.459387,-3.1855321587636376,191.667587,209.90611900000002,-8.6888996313633005]
[null,"Livre Outros",7.3846250199999997,4.5982553989999992,60.596234424167996,28.632713708000001,18.381933158999999,55.765519656354016]
[null,"1      Vendas de energia no mercado cativo",411.40398600000003,396.25525199999998,3.8229736826302263,1554.6015819999998,1614.4384659999998,-3.7063589142703246]
[null,"2     Energia associada aos consumidores livres (TUSD)",116.00712960399997,88.006311739999958,31.816829168712111,469.20084119500001,393.94193107000001,19.10406183992308]
[null,"3     Mercado cativo + TUSD (1+2)",527.41111560399997,484.26156373999993,8.9103813093799555,2023.8024231949998,2008.3803970699998,0.76788372100717872]
[null,{"$f":"'Por Segmento'!B23","v":"4    Fornecimento não faturado"},8.2031889999999841,-24.131144999999989,"-",-3.1744680000000227,-12.04499099999998,-73.644911814379711]
[null,"5     Mercado cativo + TUSD + fornecimento não faturado (3+4)",535.61430460399993,460.13041873999993,16.404889307405845,2020.6279551949999,1996.3354060699999,1.216857099820845]

{"sheet":"ETO","index":12,"n_rows":24,"n_cols":8,"rows_kept":24,"cut":false,"hidden":false,"merged":[[1,1,2,1],[1,2,1,4],[1,5,1,7],[24,5,24,6]]}
[]
[null,"Descrição\nValores em GWh","Mês",null,null,"Acumulado"]
[null,null,{"$f":"'Por Segmento'!C3","v":"2021-04-01"},{"$f":"'Por Segmento'!D3","v":"2020-04-01"},{"$f":"'Por Segmento'!E3","v":"Var. %"},{"$f":"'Por Segmento'!F3","v":"4M21"},{"$f":"'Por Segmento'!G3","v":"4M20"},{"$f":"'Por Segmento'!H3","v":"Var. %"}]
[]
[]
[]
[null,"Residencial",93.870050000000006,90.013892000000013,{"$f":"IF(OR(AND(C7<=0,D7>=0),AND(C7>=0,D7<=0),C7=D7),\"-\",IF((C7/D7-1)*100>0,(C7/D7-1)*100,(C7/D7-1)*100))","v":4.2839587471676044},351.971856,343.99509900000004,{"$f":"IF(OR(AND(F7<=0,G7>=0),AND(F7>=0,G7<=0),F7=G7),\"-\",IF((F7/G7-1)*100>0,(F7/G7-1)*100,(F7/G7-1)*100))","v":2.3188577462843307}]
[null,"Industrial",33.532992860999997,24.706093980999999,{"$f":"IF(OR(AND(C8<=0,D8>=0),AND(C8>=0,D8<=0),C8=D8),\"-\",IF((C8/D8-1)*100>0,(C8/D8-1)*100,(C8/D8-1)*100))","v":35.72761799897728},108.75163250800001,94.284839315999989,{"$f":"IF(OR(AND(F8<=0,G8>=0),AND(F8>=0,G8<=0),F8=G8),\"-\",IF((F8/G8-1)*100>0,(F8/G8-1)*100,(F8/G8-1)*100))","v":15.343710926328136}]
[null,"Cativo Industrial",10.116047999999999,8.5527230000000003,18.278681538031783,26.768089999999997,31.848089000000002,-15.950718424581156]
[null,"Livre Industrial",23.416944861000001,16.153370980999998,44.966303866503175,81.983542507999999,62.436750315999987,31.306549577086116]
[null,"Comercial",35.044110996000001,31.505090656,11.233169834812106,130.540484943,135.70112169699999,-3.8029433282968039]
[null,"Cativo Comercial",29.970245000000002,29.247392000000001,2.4715126736770232,111.68875899999999,123.57369300000001,-9.6176894219710753]
[null,"Livre Comercial",5.0738659959999994,2.257698656000001,124.73619242833074,18.851725943000002,12.127428697000001,55.447015307238303]
[null,"Rural",23.566724070999996,18.768359089999997,25.566246670741855,81.461187806999973,75.19634155,8.3313178910895846]
[null,"Cativo Rural",22.891775999999997,18.316994999999999,24.975608717477947,79.296356999999986,73.511886000000004,7.8687560811594226]
[null,"Livre Rural",0.67494807099999998,0.45136409,49.535172592042052,2.1648308070000004,1.68445555,28.518131986326402]
[null,"Outros",26.525423840999999,26.248296,1.0557936446617289,109.533683372,110.85607200000001,-1.1928878627415318]
[null,"Cativo Outros",23.929209999999998,26.248296,-8.8351868631777126,100.69430799999999,110.85607200000001,-9.1666282384604276]
[null,"Livre Outros",2.596213841,0,"-",8.8393753719999992,0,"-"]
[null,"1      Vendas de energia no mercado cativo",180.77732900000001,172.37929800000003,4.8718326953622881,670.41936999999996,683.78483900000015,-1.9546307899348081]
[null,"2     Energia associada aos consumidores livres (TUSD)",31.761972769,18.862433726999999,68.387458525754226,111.83947463000001,76.248634562999982,46.677347431832786]
[null,"3     Mercado cativo + TUSD (1+2)",212.53930176900002,191.24173172700003,11.136465796284757,782.25884463,760.03347356300014,2.9242621331937446]
[null,{"$f":"'Por Segmento'!B23","v":"4    Fornecimento não faturado"},9.1906469999999967,-4.5378770000000079,"-",0.63091000000000352,-3.6385360000000073,"-"]
[null,"5     Mercado cativo + TUSD + fornecimento não faturado (3+4)",221.729948769,186.70385472700002,18.76024150289528,782.88975462999997,756.3949375630001,3.5027755675312244]

{"sheet":"ESS","index":13,"n_rows":24,"n_cols":8,"rows_kept":24,"cut":false,"hidden":false,"merged":[[1,1,2,1],[1,2,1,4],[1,5,1,7],[24,5,24,6]]}
[]
[null,"Descrição\nValores em GWh","Mês",null,null,"Acumulado"]
[null,null,{"$f":"'Por Segmento'!C3","v":"2021-04-01"},{"$f":"'Por Segmento'!D3","v":"2020-04-01"},{"$f":"'Por Segmento'!E3","v":"Var. %"},{"$f":"'Por Segmento'!F3","v":"4M21"},{"$f":"'Por Segmento'!G3","v":"4M20"},{"$f":"'Por Segmento'!H3","v":"Var. %"}]
[]
[]
[]
[null,"Residencial",142.46497600000004,132.01614699999999,{"$f":"IF(OR(AND(C7<=0,D7>=0),AND(C7>=0,D7<=0),C7=D7),\"-\",IF((C7/D7-1)*100>0,(C7/D7-1)*100,(C7/D7-1)*100))","v":7.9148113601588799},560.36868000000004,533.26854000000003,{"$f":"IF(OR(AND(F7<=0,G7>=0),AND(F7>=0,G7<=0),F7=G7),\"-\",IF((F7/G7-1)*100>0,(F7/G7-1)*100,(F7/G7-1)*100))","v":5.0818936365531808}]
[null,"Industrial",107.06635079200001,81.332293678000013,{"$f":"IF(OR(AND(C8<=0,D8>=0),AND(C8>=0,D8<=0),C8=D8),\"-\",IF((C8/D8-1)*100>0,(C8/D8-1)*100,(C8/D8-1)*100))","v":31.640638607688665},457.486110763,423.99263540300007,{"$f":"IF(OR(AND(F8<=0,G8>=0),AND(F8>=0,G8<=0),F8=G8),\"-\",IF((F8/G8-1)*100>0,(F8/G8-1)*100,(F8/G8-1)*100))","v":7.8995417758057851}]
[null,"Cativo Industrial",23.054866999999998,20.167390000000001,14.317554229873064,92.486048999999994,118.80775499999999,-22.154871961009615]
[null,"Livre Industrial",84.011483792000007,61.164903678000009,37.352433732708604,365.00006176299996,305.18488040300002,19.599654242704734]
[null,"Comercial",67.017655991000012,57.868175926999996,15.810901099668273,274.59285287099999,277.69033836799997,-1.1154459010724205]
[null,"Cativo Comercial",56.526902999999997,51.376677999999998,10.024441440141384,230.3725,243.95030200000002,-5.5658065961320391]
[null,"Livre Comercial",10.490752991000001,6.4914979269999957,61.607584396907214,44.22035287100001,33.740036367999998,31.061959710689102]
[null,"Rural",31.020803000000001,28.369452000000003,9.3457956114203267,112.643288,108.929311,3.4095295067091635]
[null,"Cativo Rural",31.020803000000001,28.369452000000003,9.3457956114203267,112.643288,108.929311,3.4095295067091635]
[null,"Livre Rural",0,0,"-",0,0,"-"]
[null,"Outros",40.239991735999993,38.614113578999998,4.2105800348715361,164.935712784,159.272548583,3.5556436130290248]
[null,"Cativo Outros",38.191186999999999,37.896312999999992,0.77810735835965872,156.55198799999999,156.423058,8.2423909651474503E-2]
[null,"Livre Outros",2.0488047360000001,0.71780057899999994,185.42812529550775,8.3837247840000018,2.8494905829999997,194.21837131230143]
[null,"1      Vendas de energia no mercado cativo",291.25873600000006,269.82597999999996,7.9431773026452435,1152.422505,1161.378966,-0.77119194183855599]
[null,"2     Energia associada aos consumidores livres (TUSD)",96.551041518999995,68.374202183999998,41.209752267637526,417.60413941799993,341.774407354,22.187071481176666]
[null,"3     Mercado cativo + TUSD (1+2)",387.80977751900002,338.20018218399997,14.668707454453589,1570.0266444179999,1503.153373354,4.4488654484262646]
[null,{"$f":"'Por Segmento'!B23","v":"4    Fornecimento não faturado"},0.35396499999999653,-11.192865999999995,"-",-9.2669700000000006,-9.9171519999999873,-6.5561362778344794]
[null,"5     Mercado cativo + TUSD + fornecimento não faturado (3+4)",388.16374251900004,327.00731618399999,18.701852621728076,1560.759674418,1493.236221354,4.5219538676052773]

{"sheet":"EAC","index":14,"n_rows":24,"n_cols":8,"rows_kept":24,"cut":false,"hidden":false,"merged":[[1,1,2,1],[1,2,1,4],[1,5,1,7],[24,5,24,6]]}
[]
[null,"Descrição\nValores em GWh","Mês",null,null,"Acumulado"]
[null,null,{"$f":"'Por Segmento'!C3","v":"2021-04-01"},{"$f":"'Por Segmento'!D3","v":"2020-04-01"},{"$f":"'Por Segmento'!E3","v":"Var. %"},{"$f":"'Por Segmento'!F3","v":"4M21"},{"$f":"'Por Segmento'!G3","v":"4M20"},{"$f":"'Por Segmento'!H3","v":"Var. %"}]
[]
[]
[]
[null,"Residencial",43.717956000000001,44.226447,{"$f":"IF(OR(AND(C7<=0,D7>=0),AND(C7>=0,D7<=0),C7=D7),\"-\",IF((C7/D7-1)*100>0,(C7/D7-1)*100,(C7/D7-1)*100))","v":-1.1497441790881302},181.776477,176.66594499999999,{"$f":"IF(OR(AND(F7<=0,G7>=0),AND(F7>=0,G7<=0),F7=G7),\"-\",IF((F7/G7-1)*100>0,(F7/G7-1)*100,(F7/G7-1)*100))","v":2.8927657789394656}]
[null,"Industrial",3.1179844570000004,3.1370186499999999,{"$f":"IF(OR(AND(C8<=0,D8>=0),AND(C8>=0,D8<=0),C8=D8),\"-\",IF((C8/D8-1)*100>0,(C8/D8-1)*100,(C8/D8-1)*100))","v":-0.6067605941711407},12.400378887,12.863522925,{"$f":"IF(OR(AND(F8<=0,G8>=0),AND(F8>=0,G8<=0),F8=G8),\"-\",IF((F8/G8-1)*100>0,(F8/G8-1)*100,(F8/G8-1)*100))","v":-3.600444766961064}]
[null,"Cativo Industrial",2.4583790000000003,2.6706790000000002,-7.9492893005861038,9.835325000000001,11.860517,-17.075073540217499]
[null,"Livre Industrial",0.65960545699999995,0.46633964999999999,41.443142782304697,2.5650538869999999,1.0030059250000001,155.73666346985934]
[null,"Comercial",19.356584408,17.718089246999998,9.2475838571443489,78.243703502000002,84.513838161999999,-7.4190627196236374]
[null,"Cativo Comercial",15.70659,15.317,2.5435137429000498,64.435330000000008,72.332358000000013,-10.917697443238339]
[null,"Livre Comercial",3.6499944079999995,2.4010892469999998,52.014108286912816,13.808373501999998,12.181480162,13.355465168141677]
[null,"Rural",4.5022010000000003,4.7077689999999999,-4.3665693877503191,18.843707999999999,18.472477999999999,2.0096383387220751]
[null,"Cativo Rural",4.5022010000000003,4.7077689999999999,-4.3665693877503191,18.843707999999999,18.472477999999999,2.0096383387220751]
[null,"Livre Rural",0,0,"-",0,0,"-"]
[null,"Outros",15.740853,16.22701,-2.9959739964417365,59.547779999999996,72.089733999999993,-17.397697708247883]
[null,"Cativo Outros",15.740853,16.22701,-2.9959739964417365,59.547779999999996,72.089733999999993,-17.397697708247883]
[null,"Livre Outros",0,0,"-",0,0,"-"]
[null,"1      Vendas de energia no mercado cativo",82.125979000000001,83.148905000000013,-1.2302338798087731,334.43862000000001,351.42103199999997,-4.8324973332842358]
[null,"2     Energia associada aos consumidores livres (TUSD)",4.3095998649999991,2.8674288969999999,50.294916449675412,16.373427389,13.184486087,24.187073208293786]
[null,"3     Mercado cativo + TUSD (1+2)",86.435578864999997,86.01633389700001,0.48740157712605647,350.81204738899999,364.60551808699995,-3.7831217613960133]
[null,{"$f":"'Por Segmento'!B23","v":"4    Fornecimento não faturado"},0.53307299999999669,-3.6727790000000025,"-",-7.5167510000000037,-4.9177950000000017,52.84799386717016]
[null,"5     Mercado cativo + TUSD + fornecimento não faturado (3+4)",86.968651864999998,82.343554897000004,5.616829360579989,343.29529638899999,359.68772308699994,-4.5574051172258105]

{"sheet":"ERO","index":15,"n_rows":24,"n_cols":8,"rows_kept":24,"cut":false,"hidden":false,"merged":[[1,1,2,1],[1,2,1,4],[1,5,1,7],[24,5,24,6]]}
[]
[null,"Descrição\nValores em GWh","Mês",null,null,"Acumulado"]
[null,null,{"$f":"'Por Segmento'!C3","v":"2021-04-01"},{"$f":"'Por Segmento'!D3","v":"2020-04-01"},{"$f":"'Por Segmento'!E3","v":"Var. %"},{"$f":"'Por Segmento'!F3","v":"4M21"},{"$f":"'Por Segmento'!G3","v":"4M20"},{"$f":"'Por Segmento'!H3","v":"Var. %"}]
[]
[]
[]
[null,"Residencial",120.227119,111.92960600000001,{"$f":"IF(OR(AND(C7<=0,D7>=0),AND(C7>=0,D7<=0),C7=D7),\"-\",IF((C7/D7-1)*100>0,(C7/D7-1)*100,(C7/D7-1)*100))","v":7.4131530490690656},444.167486,446.38354999999996,{"$f":"IF(OR(AND(F7<=0,G7>=0),AND(F7>=0,G7<=0),F7=G7),\"-\",IF((F7/G7-1)*100>0,(F7/G7-1)*100,(F7/G7-1)*100))","v":-0.49644840182841987}]
[null,"Industrial",37.746588407000004,35.785427852000005,{"$f":"IF(OR(AND(C8<=0,D8>=0),AND(C8>=0,D8<=0),C8=D8),\"-\",IF((C8/D8-1)*100>0,(C8/D8-1)*100,(C8/D8-1)*100))","v":5.4803328413758123},138.70202776599999,148.13813393900003,{"$f":"IF(OR(AND(F8<=0,G8>=0),AND(F8>=0,G8<=0),F8=G8),\"-\",IF((F8/G8-1)*100>0,(F8/G8-1)*100,(F8/G8-1)*100))","v":-6.3698022393650628}]
[null,"Cativo Industrial",23.203132999999998,22.609758000000003,2.6244199517747813,80.891206999999994,93.935731000000004,-13.886647669777552]
[null,"Livre Industrial",14.543455407000002,13.175669852000002,10.381146236693063,57.810820765999999,54.202402939000009,6.6573023175023227]
[null,"Comercial",53.897628620000006,50.007295211000006,7.7795317514878226,198.46593137899998,226.63192987900001,-12.428080418782116]
[null,"Cativo Comercial",49.297508000000001,47.746963000000001,3.2474212024752314,180.60465300000001,213.70218,-15.487688052597303]
[null,"Livre Comercial",4.6001206199999984,2.2603322109999993,103.51524424654586,17.861278378999994,12.929749878999997,38.140942757211384]
[null,"Rural",30.322939999999999,28.209049999999998,7.4936589498760142,114.743914,111.53156300000001,2.8802169660260279]
[null,"Cativo Rural",30.322939999999999,28.209049999999998,7.4936589498760142,114.743914,111.53156300000001,2.8802169660260279]
[null,"Livre Rural",0,0,"-",0,0,"-"]
[null,"Outros",32.090966000000002,31.525230000000001,1.7945499525300779,131.08679100000003,131.15984499999999,-5.5698449475871659E-2]
[null,"Cativo Outros",32.090966000000002,31.525230000000001,1.7945499525300779,131.08679100000003,131.15984499999999,-5.5698449475871659E-2]
[null,"Livre Outros",0,0,"-",0,0,"-"]
[null,"1      Vendas de energia no mercado cativo",255.14166599999999,242.02060699999998,5.4214635533080813,951.49405100000001,996.71286899999996,-4.5367948389557711]
[null,"2     Energia associada aos consumidores livres (TUSD)",19.143576027000002,15.436002063000002,24.019004071572603,75.67209914499999,67.132152818000009,12.721097072743026]
[null,"3     Mercado cativo + TUSD (1+2)",274.28524202699998,257.45660906299997,6.5364928968989933,1027.1661501450001,1063.8450218180001,-3.4477645635188181]
[null,{"$f":"'Por Segmento'!B23","v":"4    Fornecimento não faturado"},4.4336970000000004,-7.2877400000000057,"-",18.506583000000013,-12.407074000000009,"-"]
[null,"5     Mercado cativo + TUSD + fornecimento não faturado (3+4)",278.71893902699998,250.16886906299996,11.412319234976543,1045.6727331450002,1051.4379478180001,-0.5483171579420576]