{"text_format":"1","workbook":"xlsx","n_sheets":16,"sheets":["Apoio Cativo","Apoio Livre","Por Segmento","Por Empresa","Por Empresa e Segmento >>>","EMG","ENF","ESE","EBO","EPB","EMT","EMS","ETO","ESS","EAC","ERO"],"not_rendered":{"charts":0,"images":0,"macros":1,"external_links":0,"defined_names":14,"comments":0,"pivot_tables":0},"unopened":[],"bounds":{"document_bytes":16777216,"sheet_cells":100000,"rows_first":2000,"rows_last":500,"rows_between":2000,"halvings":0,"cell_chars":16384,"cell_head_chars":4096},"cells_cut":0,"cells_raw":0,"read":"whole","date_system":"1900"}

{"sheet":"Apoio Cativo","index":0,"n_rows":162,"n_cols":1,"rows_kept":162,"cut":false,"hidden":true,"merged":[]}
[]
[]
[]
[]
[]
["Apoio"]
[{"$f":"$B$1&\"Residencial\"&B7","v":"Residencial"}]
[{"$f":"$B$1&\"Residencial\"&B8","v":"Residencial"}]
["Residencial"]
["Residencial"]
["Residencial"]
["Residencial"]
["Residencial"]
["Residencial"]
["Residencial"]
["Residencial"]
["Residencial"]
["Residencial"]
[]
[]
[]
[]
[]
["Apoio"]
[{"$f":"$B$1&\"Industrial\"&B25","v":"Industrial"}]
[{"$f":"$B$1&\"Industrial\"&B26","v":"Industrial"}]
["Industrial"]
["Industrial"]
["Industrial"]
["Industrial"]
["Industrial"]
["Industrial"]
["Industrial"]
["Industrial"]
["Industrial"]
["Industrial"]
[]
[]
[]
[]
[]
["Apoio"]
[{"$f":"$B$1&\"Comercial\"&B43","v":"Comercial"}]
[{"$f":"$B$1&\"Comercial\"&B44","v":"Comercial"}]
["Comercial"]
["Comercial"]
["Comercial"]
["Comercial"]
["Comercial"]
["Comercial"]
["Comercial"]
["Comercial"]
["Comercial"]
["Comercial"]
[]
[]
[]
[]
[]
["Apoio"]
[{"$f":"$B$1&\"Rural\"&B61","v":"Rural"}]
[{"$f":"$B$1&\"Rural\"&B62","v":"Rural"}]
["Rural"]
["Rural"]
["Rural"]
["Rural"]
["Rural"]
["Rural"]
["Rural"]
["Rural"]
["Rural"]
["Rural"]
[]
[]
[]
[]
[]
["Apoio"]
[{"$f":"$B$1&\"Poder Público\"&B79","v":"Poder Público"}]
[{"$f":"$B$1&\"Poder Público\"&B80","v":"Poder Público"}]
["Poder Público"]
["Poder Público"]
["Poder Público"]
["Poder Público"]
["Poder Público"]
["Poder Público"]
["Poder Público"]
["Poder Público"]
["Poder Público"]
["Poder Público"]
[]
[]
[]
[]
[]
["Apoio"]
[{"$f":"$B$1&\"Iluminação Pública\"&B97","v":"Iluminação Pública"}]
[{"$f":"$B$1&\"Iluminação Pública\"&B98","v":"Iluminação Pública"}]
["Iluminação Pública"]
["Iluminação Pública"]
["Iluminação Pública"]
["Iluminação Pública"]
["Iluminação Pública"]
["Iluminação Pública"]
["Iluminação Pública"]
["Iluminação Pública"]
["Iluminação Pública"]
["Iluminação Pública"]
[]
[]
[]
[]
[]
["Apoio"]
[{"$f":"$B$1&\"Serviço Público\"&B115","v":"Serviço Público"}]
[{"$f":"$B$1&\"Serviço Público\"&B116","v":"Serviço Público"}]
["Serviço Público"]
["Serviço Público"]
["Serviço Público"]
["Serviço Público"]
["Serviço Público"]
["Serviço Público"]
["Serviço Público"]
["Serviço Público"]
["Serviço Público"]
["Serviço Público"]
[]
[]
[]
[]
[]
["Apoio"]
[{"$f":"$B$1&\"Próprio\"&B133","v":"Próprio"}]
[{"$f":"$B$1&\"Próprio\"&B134","v":"Próprio"}]
["Próprio"]
["Próprio"]
["Próprio"]
["Próprio"]
["Próprio"]
["Próprio"]
["Próprio"]
["Próprio"]
["Próprio"]
["Próprio"]
[]
[]
[]
[]
[]
["Apoio"]
[{"$f":"$B$1&\"Outros\"&B151","v":"Outros"}]
[{"$f":"$B$1&\"Outros\"&B152","v":"Outros"}]
["Outros"]
["Outros"]
["Outros"]
["Outros"]
["Outros"]
["Outros"]
["Outros"]
["Outros"]
["Outros"]
["Outros"]

{"sheet":"Apoio Livre","index":1,"n_rows":162,"n_cols":1,"rows_kept":162,"cut":false,"hidden":true,"merged":[]}
[]
[]
[]
[]
[]
["Apoio"]
[{"$f":"$C$1&B7","v":""}]
[{"$f":"$C$1&B8","v":""}]
[""]
[""]
[""]
[""]
[""]
[""]
[""]
[""]
[""]
[""]
[]
[]
[]
[]
[]
["Apoio"]
[{"$f":"$C$1&B25","v":""}]
[{"$f":"$C$1&B26","v":""}]
[""]
[""]
[""]
[""]
[""]
[""]
[""]
[""]
[""]
[""]
[]
[]
[]
[]
[]
["Apoio"]
[{"$f":"$C$1&B43","v":""}]
[{"$f":"$C$1&B44","v":""}]
[""]
[""]
[""]
[""]
[""]
[""]
[""]
[""]
[""]
[""]
[]
[]
[]
[]
[]
["Apoio"]
[{"$f":"$C$1&B61","v":""}]
[{"$f":"$C$1&B62","v":""}]
[""]
[""]
[""]
[""]
[""]
[""]
[""]
[""]
[""]
[""]
[]
[]
[]
[]
[]
["Apoio"]
[{"$f":"$C$1&B79","v":""}]
[{"$f":"$C$1&B80","v":""}]
[""]
[""]
[""]
[""]
[""]
[""]
[""]
[""]
[""]
[""]
[]
[]
[]
[]
[]
["Apoio"]
[{"$f":"$C$1&B97","v":""}]
[{"$f":"$C$1&B98","v":""}]
[""]
[""]
[""]
[""]
[""]
[""]
[""]
[""]
[""]
[""]
[]
[]
[]
[]
[]
["Apoio"]
[{"$f":"$C$1&B115","v":""}]
[{"$f":"$C$1&B116","v":""}]
[""]
[""]
[""]
[""]
[""]
[""]
[""]
[""]
[""]
[""]
[]
[]
[]
[]
[]
["Apoio"]
[{"$f":"$C$1&B133","v":""}]
[{"$f":"$C$1&B134","v":""}]
[""]
[""]
[""]
[""]
[""]
[""]
[""]
[""]
[""]
[""]
[]
[]
[]
[]
[]
["Apoio"]
[{"$f":"$C$1&B151","v":""}]
[{"$f":"$C$1&B152","v":""}]
[""]
[""]
[""]
[""]
[""]
[""]
[""]
[""]
[""]
[""]

{"sheet":"Por Segmento","index":2,"n_rows":24,"n_cols":11,"rows_kept":24,"cut":false,"hidden":false,"merged":[[1,1,2,1],[1,2,1,4],[1,8,1,10],[24,8,24,9],[1,5,1,7],[24,5,24,6]]}
[]
[null,"Descrição\nValores em GWh","Mês",null,null,"Trimestre",null,null,"Acumulado"]
[null,null,"2021-03-01","2020-03-01","Var. %","1T21","1T20","Var. %","3M21","3M20","Var. %"]
[]
[]
[]
[null,"Residencial",1239.4387000000002,1193.5469220000002,3.8449915251844491,3596.0965880000003,3557.3428289999997,1.0894018615263734,3596.0965880000003,3557.3428289999997,1.0894018615263734]
[null,"Industrial",638.86887990399998,613.60901637811003,4.1166056644651228,1844.1532992070001,1803.0416508536603,2.2801274908915925,1844.1532992070001,1803.0416508536603,2.2801274908915925]
[null,"Cativo",160.12400599999998,186.44899999999998,-14.119139282055681,479.809189,553.91457400000002,-13.378486228455877,479.809189,553.91457400000002,-13.378486228455877]
[null,"Livre",478.74487390400003,427.16001637811002,12.076237369611054,1364.3441102070001,1249.1270768536601,9.2238040058784332,1364.3441102070001,1249.1270768536601,9.2238040058784332]
[null,"Comercial",581.39270773599992,615.14007703899995,-5.4861275606434612,1688.4358479,1851.2467601669998,-8.7946629142142463,1688.4358479,1851.2467601669998,-8.7946629142142463]
[null,"Cativo",481.81484299999994,540.101721,-10.791833414654139,1410.7631269999999,1621.645653,-13.004229722434935,1410.7631269999999,1621.645653,-13.004229722434935]
[null,"Livre",99.577864735999981,75.038356039000021,32.702620356242782,277.6727209,229.60110716700001,20.93701303366764,277.6727209,229.60110716700001,20.93701303366764]
[null,"Rural",299.41328053000001,290.97598398399998,2.8996539269247723,890.90105804199993,867.99601196500009,2.6388423173911324,890.90105804199993,867.99601196500009,2.6388423173911324]
[null,"Cativo",291.97942799999998,285.04307399999999,2.4334406385190688,867.05911499999991,846.44520100000011,2.4353512756225992,867.05911499999991,846.44520100000011,2.4353512756225992]
[null,"Livre",7.4338525299999993,5.9329099840000001,25.298589563094232,23.841943041999997,21.550810965000004,10.631303298613437,23.841943041999997,21.550810965000004,10.631303298613437]
[null,"Outros",373.65377588699999,396.66582544799996,-5.8013693352609419,1159.67450246,1173.462991097,-1.1750254368150137,1159.67450246,1173.462991097,-1.1750254368150137]
[null,"Cativo",357.05610999999993,386.79776599999997,-7.6892005627561044,1112.5853459999998,1145.3903249999998,-2.8640873145143741,1112.5853459999998,1145.3903249999998,-2.8640873145143741]
[null,"Livre",16.597665886999998,9.8680594480000003,68.19584412175297,47.089156459999998,28.072666096999999,67.740236346957474,47.089156459999998,28.072666096999999,67.740236346957474]
[null,"1      Vendas de energia no mercado cativo",2530.4130869999999,2591.9384830000004,-2.3737213056379658,7466.313365,7724.738582,-3.3454234632894431,7466.313365,7724.738582,-3.3454234632894431]
[null,"2     Energia associada aos consumidores livres (TUSD)",602.35425705699993,517.99934184911001,16.284753356397495,1712.947930609,1528.35166108266,12.078127974524854,1712.947930609,1528.35166108266,12.078127974524854]
[null,"3     Mercado cativo + TUSD (1+2)",3132.7673440569997,3109.9378248491103,0.73408281752376237,9179.2612956089997,9253.0902430826609,-0.79788422607088849,9179.2612956089997,9253.0902430826609,-0.79788422607088849]
[null,"4    Fornecimento não faturado",39.988141200000051,62.263143999999954,-35.77558306403531,-59.379295999999982,26.326828000000017,"-",-59.379295999999982,26.326828000000017,"-"]
[null,"5     Mercado cativo + TUSD + fornecimento não faturado (3+4)",3172.7554852569997,3172.2009688491103,1.7480494247834599E-2,9119.8819996090006,9279.4170710826602,-1.7192359202262475,9119.8819996090006,9279.4170710826602,-1.7192359202262475]

{"sheet":"Por Empresa","index":3,"n_rows":24,"n_cols":10,"rows_kept":24,"cut":false,"hidden":false,"merged":[[1,1,4,1],[1,2,1,5],[1,6,1,9],[2,2,2,5],[2,6,2,9],[3,2,4,2],[3,3,4,3],[3,4,4,4],[3,5,4,5],[3,9,4,9],[3,6,4,6],[3,7,4,7],[3,8,4,8]]}
[]
[null,"Empresas",{"$f":"'Por Segmento'!C3","v":"2021-03-01"},null,null,null,{"$f":"'Por Segmento'!I3","v":"3M21"}]
[null,null,"Vendas de energia (GWh)",null,null,null,"Vendas de energia (GWh)"]
[null,null,"Mercado Cativo + TUSD","Var. (1) (%)","Mercado Cativo + TUSD + Não Faturado","Var. (1) (%)","Mercado Cativo + TUSD","Var. (1) (%)","Mercado Cativo + TUSD + Não Faturado","Var. (1) (%)"]
[]
[]
[]
[]
[null,"Região Norte",518.30494566699997,-6.2796331115727693,540.24407266699995,-4.3658434366405157,1586.9762001280001,-4.0388424846619415,1584.439525128,-3.8745760415180852]
[null,"Energisa Tocantins (ETO)",183.672525366,-4.3828684307483767,186.05307636600003,-5.847484176710438,569.71954411299998,0.16311809907878505,561.15980711300006,-1.4975266385652497]
[null,"Energisa Acre (EAC)",84.782546265000008,-10.271305510751795,89.184143265000017,-4.5557247301249548,264.37643328800004,-5.1016879723179702,256.32660928800004,-7.5781506563359464]
[null,"Energisa Rondõnia (ERO)",249.84987403599999,-6.2315530147121549,265.006853036,-3.2319445216800857,752.88022272700005,-6.6355355783438092,766.95310872699997,-4.2827023952203058]
[null,"Região Nordeste",710.97947519100001,1.1000304087578572,720.50641419099998,0.22525041951451108,2099.7477173819998,-1.2115717089383304,2113.5718753820001,-0.98494682802285904]
[null,"Energisa Paraíba (EPB)",389.14918800000004,1.4105935953734328,392.42472700000002,-9.4137349754808142E-2,1176.4433482589998,7.0114300131596252E-3,1182.6555492590001,0.27941400557609519]
[null,"Energisa Sergipe (ESE)",260.85729719099999,-0.35361748351111499,267.32890719099998,0.43275318284856645,748.27243428199995,-3.465856275866297,754.02243028199996,-3.3773017102211811]
[null,"Energisa Borborema (EBO)",60.972989999999996,5.6278595492429195,60.752780000000001,1.3972537402890284,175.03193484100001,0.5923650573658179,176.89389584100002,1.164250481889928]
[null,"Região Centro-Oeste",1328.949549705,1.0695564335282182,1349.1035407050001,0.42192557556939292,3825.025663894,-0.51408656516729323,3760.4118848939997,-2.6951420057159892]
[null,"Energisa Mato Grosso (EMT)",813.74658539999996,2.6159235228231159,811.46092440000007,0.62635281875471627,2328.6344668699999,0.34309371884941875,2275.3983448700001,-2.2747374729940928]
[null,"Energisa Mato Grosso do Sul (EMS)",515.20296430500002,-1.2801476062151096,537.64261630500005,0.11495276376571884,1496.3911970239999,-1.8192568518701879,1485.0135400239997,-3.3323318000010871]
[null,"Região Sul/Sudeste",574.53337349399999,6.6370311631667178,562.9014576940001,3.2900577668508513,1667.5117142049999,2.3622461594406063,1661.458714205,1.8082648002288426]
[null,"Energisa Minas Gerais (EMG)",137.88195700000003,10.54590101049271,134.24079900000004,7.1279027974476827,401.80085900000006,4.6820758438889776,404.9986560000001,5.112147541508083]
[null,"Energisa Nova Friburgo (ENF)",29.372212999999999,11.794794325256387,28.411621,6.7007796749353421,83.505721999999992,4.0606558031380136,83.875860000000003,4.29936798775028]
[null,"Energisa Sul-Sudeste (ESS)",407.279203494,5.030272039364192,400.24903769400004,1.8353926579349755,1182.2051332049998,1.4809128955364237,1172.5841982049999,0.54494387909835851]
[null,"Total (Distribuidoras)",3132.7673440570002,0.73408281752378457,3172.7554852570001,1.7480494247856804E-2,9179.2612956089997,-0.79788422607088849,9119.8819996090006,-1.7192359202262475]

{"sheet":"Por Empresa e Segmento >>>","index":4,"n_rows":0,"n_cols":0,"rows_kept":0,"cut":false,"hidden":false,"merged":[]}

{"sheet":"EMG","index":5,"n_rows":24,"n_cols":11,"rows_kept":24,"cut":false,"hidden":false,"merged":[[1,1,2,1],[1,2,1,4],[1,8,1,10],[24,8,24,9],[1,5,1,7],[24,5,24,6]]}
[]
[null,"Descrição\nValores em GWh","Mês",null,null,"Trimestre",null,null,"Acumulado"]
[null,null,{"$f":"'Por Segmento'!C3","v":"2021-03-01"},{"$f":"'Por Segmento'!D3","v":"2020-03-01"},{"$f":"'Por Segmento'!E3","v":"Var. %"},{"$f":"'Por Segmento'!F3","v":"1T21"},{"$f":"'Por Segmento'!G3","v":"1T20"},{"$f":"'Por Segmento'!H3","v":"Var. %"},{"$f":"'Por Segmento'!I3","v":"3M21"},{"$f":"'Por Segmento'!J3","v":"3M20"},{"$f":"'Por Segmento'!K3","v":"Var. %"}]
[]
[]
[]
[null,"Residencial",51.272237999999994,46.222861000000002,{"$f":"IF(OR(AND(C7<=0,D7>=0),AND(C7>=0,D7<=0),C7=D7),\"-\",IF((C7/D7-1)*100>0,(C7/D7-1)*100,(C7/D7-1)*100))","v":10.923981966412665},151.36538299999998,142.14387200000002,{"$f":"IF(OR(AND(F7<=0,G7>=0),AND(F7>=0,G7<=0),F7=G7),\"-\",IF((F7/G7-1)*100>0,(F7/G7-1)*100,(F7/G7-1)*100))","v":6.4874488574505396},151.36538299999998,142.14387200000002,{"$f":"IF(OR(AND(I7<=0,J7>=0),AND(I7>=0,J7<=0),I7=J7),\"-\",IF((I7/J7-1)*100>0,(I7/J7-1)*100,(I7/J7-1)*100))","v":6.4874488574505396}]
[null,"Industrial",38.249099999999999,31.111343499,{"$f":"IF(OR(AND(C8<=0,D8>=0),AND(C8>=0,D8<=0),C8=D8),\"-\",IF((C8/D8-1)*100>0,(C8/D8-1)*100,(C8/D8-1)*100))","v":22.942617380793685},106.93427700000001,95.839408754999994,{"$f":"IF(OR(AND(F8<=0,G8>=0),AND(F8>=0,G8<=0),F8=G8),\"-\",IF((F8/G8-1)*100>0,(F8/G8-1)*100,(F8/G8-1)*100))","v":11.576519919235405},106.93427700000001,95.839408754999994,{"$f":"IF(OR(AND(I8<=0,J8>=0),AND(I8>=0,J8<=0),I8=J8),\"-\",IF((I8/J8-1)*100>0,(I8/J8-1)*100,(I8/J8-1)*100))","v":11.576519919235405}]
[null,"Cativo Industrial",8.9697649999999989,8.8352360000000001,1.5226418400142272,25.821646000000001,27.176191000000003,-4.9843077714606938,25.821646000000001,27.176191000000003,-4.9843077714606938]
[null,"Livre Industrial",29.279335,22.276107498999998,31.438291008940332,81.112630999999993,68.663217754999991,18.131124133187669,81.112630999999993,68.663217754999991,18.131124133187669]
[null,"Comercial",20.440853999999998,19.379681752,5.4756949137747535,58.982326000000008,61.080275309000001,-3.4347410819395408,58.982326000000008,61.080275309000001,-3.4347410819395408]
[null,"Cativo Comercial",19.025069999999999,18.217599999999997,4.4323621113648404,54.831954000000003,57.505635000000005,-4.6494243564130784,54.831954000000003,57.505635000000005,-4.6494243564130784]
[null,"Livre Comercial",1.4157839999999999,1.1620817520000002,21.831703971202177,4.150372,3.5746403090000003,16.106003436218728,4.150372,3.5746403090000003,16.106003436218728]
[null,"Rural",15.2881,14.461694999999999,5.7144408037923755,46.493997999999998,44.393152000000001,4.7323650278313201,46.493997999999998,44.393152000000001,4.7323650278313201]
[null,"Cativo Rural",15.2881,14.461694999999999,5.7144408037923755,46.493997999999998,44.393152000000001,4.7323650278313201,46.493997999999998,44.393152000000001,4.7323650278313201]
[null,"Livre Rural",0,0,"-",0,0,"-",0,0,"-"]
[null,"Outros",12.631665000000002,13.552659000000002,-6.795670133809173,38.024875000000002,40.372955000000005,-5.8159725984882726,38.024875000000002,40.372955000000005,-5.8159725984882726]
[null,"Cativo Outros",12.631665000000002,13.552659000000002,-6.795670133809173,38.024875000000002,40.372955000000005,-5.8159725984882726,38.024875000000002,40.372955000000005,-5.8159725984882726]
[null,"Livre Outros",0,0,"-",0,0,"-",0,0,"-"]
[null,"1      Vendas de energia no mercado cativo",107.18683799999999,101.29005100000001,5.8216843034267995,316.53785599999998,311.59180500000002,1.5873495132517901,316.53785599999998,311.59180500000002,1.5873495132517901]
[null,"2     Energia associada aos consumidores livres (TUSD)",30.695118999999998,23.438189250999997,30.961989730884952,85.263002999999998,72.237858063999994,18.030912439928958,85.263002999999998,72.237858063999994,18.030912439928958]
[null,"3     Mercado cativo + TUSD (1+2)",137.881957,124.728240251,10.545901010492731,401.80085899999995,383.82966306399999,4.6820758438889776,401.80085899999995,383.82966306399999,4.6820758438889776]
[null,{"$f":"'Por Segmento'!B23","v":"4    Fornecimento não faturado"},-3.641158000000003,0.5806620000000039,"-",3.1977969999999987,1.4718130000000018,117.26924548159276,3.1977969999999987,1.4718130000000018,117.26924548159276]
[null,"5     Mercado cativo + TUSD + fornecimento não faturado (3+4)",134.24079900000001,125.30890225100001,7.1279027974476827,404.99865599999993,385.30147606399998,5.1121475415080386,404.99865599999993,385.30147606399998,5.1121475415080386]

{"sheet":"ENF","index":6,"n_rows":24,"n_cols":11,"rows_kept":24,"cut":false,"hidden":false,"merged":[[1,1,2,1],[1,2,1,4],[1,8,1,10],[24,8,24,9],[1,5,1,7],[24,5,24,6]]}
[]
[null,"Descrição\nValores em GWh","Mês",null,null,"Trimestre",null,null,"Acumulado"]
[null,null,{"$f":"'Por Segmento'!C3","v":"2021-03-01"},{"$f":"'Por Segmento'!D3","v":"2020-03-01"},{"$f":"'Por Segmento'!E3","v":"Var. %"},{"$f":"'Por Segmento'!F3","v":"1T21"},{"$f":"'Por Segmento'!G3","v":"1T20"},{"$f":"'Por Segmento'!H3","v":"Var. %"},{"$f":"'Por Segmento'!I3","v":"3M21"},{"$f":"'Por Segmento'!J3","v":"3M20"},{"$f":"'Por Segmento'!K3","v":"Var. %"}]
[]
[]
[]
[null,"Residencial",15.113234,13.843114,{"$f":"IF(OR(AND(C7<=0,D7>=0),AND(C7>=0,D7<=0),C7=D7),\"-\",IF((C7/D7-1)*100>0,(C7/D7-1)*100,(C7/D7-1)*100))","v":9.17510323183064},43.327204999999999,41.311509000000001,{"$f":"IF(OR(AND(F7<=0,G7>=0),AND(F7>=0,G7<=0),F7=G7),\"-\",IF((F7/G7-1)*100>0,(F7/G7-1)*100,(F7/G7-1)*100))","v":4.8792601596809204},43.327204999999999,41.311509000000001,{"$f":"IF(OR(AND(I7<=0,J7>=0),AND(I7>=0,J7<=0),I7=J7),\"-\",IF((I7/J7-1)*100>0,(I7/J7-1)*100,(I7/J7-1)*100))","v":4.8792601596809204}]
[null,"Industrial",4.6032820000000001,3.2776130000000001,{"$f":"IF(OR(AND(C8<=0,D8>=0),AND(C8>=0,D8<=0),C8=D8),\"-\",IF((C8/D8-1)*100>0,(C8/D8-1)*100,(C8/D8-1)*100))","v":40.446172260117351},12.433948000000001,10.668751,{"$f":"IF(OR(AND(F8<=0,G8>=0),AND(F8>=0,G8<=0),F8=G8),\"-\",IF((F8/G8-1)*100>0,(F8/G8-1)*100,(F8/G8-1)*100))","v":16.545488783082483},12.433948000000001,10.668751,{"$f":"IF(OR(AND(I8<=0,J8>=0),AND(I8>=0,J8<=0),I8=J8),\"-\",IF((I8/J8-1)*100>0,(I8/J8-1)*100,(I8/J8-1)*100))","v":16.545488783082483}]
[null,"Cativo Industrial",2.1031300000000002,1.6491100000000001,27.531213806234888,5.8146589999999998,5.4095450000000005,7.4888738331966742,5.8146589999999998,5.4095450000000005,7.4888738331966742]
[null,"Livre Industrial",2.5001519999999999,1.628503,53.524555987922653,6.6192890000000002,5.2592059999999989,25.86099498669574,6.6192890000000002,5.2592059999999989,25.86099498669574]
[null,"Comercial",5.9488329999999996,5.5418669999999999,7.3434818987897055,16.869083999999997,17.420042000000002,-3.1627822711334685,16.869083999999997,17.420042000000002,-3.1627822711334685]
[null,"Cativo Comercial",5.6487850000000002,5.3508100000000001,5.5687830440624975,15.999718000000001,16.838347000000002,-4.9804710640539813,15.999718000000001,16.838347000000002,-4.9804710640539813]
[null,"Livre Comercial",0.30004799999999998,0.19105699999999998,57.046326488953561,0.86936599999999997,0.58169500000000007,49.453923447854955,0.86936599999999997,0.58169500000000007,49.453923447854955]
[null,"Rural",0.43651299999999998,0.40457399999999999,7.8944766593997517,1.3293509999999999,1.216661,9.2622349199982459,1.3293509999999999,1.216661,9.2622349199982459]
[null,"Cativo Rural",0.43651299999999998,0.40457399999999999,7.8944766593997517,1.3293509999999999,1.216661,9.2622349199982459,1.3293509999999999,1.216661,9.2622349199982459]
[null,"Livre Rural",0,0,"-",0,0,"-",0,0,"-"]
[null,"Outros",3.2703509999999998,3.2061599999999997,2.0021146792424727,9.5461340000000003,9.630198,-0.87292078522165362,9.5461340000000003,9.630198,-0.87292078522165362]
[null,"Cativo Outros",2.7180299999999997,2.8272970000000002,-3.8647160167467498,7.9314869999999997,8.5319350000000007,-7.0376532404431202,7.9314869999999997,8.5319350000000007,-7.0376532404431202]
[null,"Livre Outros",0.55232100000000006,0.37886300000000001,45.783832150407953,1.6146469999999999,1.098263,47.01824608495415,1.6146469999999999,1.098263,47.01824608495415]
[null,"1      Vendas de energia no mercado cativo",26.019691999999999,24.074905000000001,8.0780671824042471,74.402420000000006,73.307997000000015,1.4929107938933317,74.402420000000006,73.307997000000015,1.4929107938933317]
[null,"2     Energia associada aos consumidores livres (TUSD)",3.3525209999999999,2.198423,52.496630539254731,9.1033020000000011,6.939163999999999,31.187301525082887,9.1033020000000011,6.939163999999999,31.187301525082887]
[null,"3     Mercado cativo + TUSD (1+2)",29.372212999999999,26.273327999999999,11.794794325256387,83.505722000000006,80.24716100000002,4.0606558031379913,83.505722000000006,80.24716100000002,4.0606558031379913]
[null,{"$f":"'Por Segmento'!B23","v":"4    Fornecimento não faturado"},-0.96059200000000056,0.35405099999999945,"-",0.37013799999999902,0.17121699999999873,116.18063626859585,0.37013799999999902,0.17121699999999873,116.18063626859585]
[null,"5     Mercado cativo + TUSD + fornecimento não faturado (3+4)",28.411620999999997,26.627378999999998,6.7007796749353421,83.875860000000003,80.418378000000018,4.2993679877502355,83.875860000000003,80.418378000000018,4.2993679877502355]

{"sheet":"ESE","index":7,"n_rows":24,"n_cols":11,"rows_kept":24,"cut":false,"hidden":false,"merged":[[1,1,2,1],[1,2,1,4],[1,8,1,10],[24,8,24,9],[1,5,1,7],[24,5,24,6]]}
[]
[null,"Descrição\nValores em GWh","Mês",null,null,"Trimestre",null,null,"Acumulado"]
[null,null,{"$f":"'Por Segmento'!C3","v":"2021-03-01"},{"$f":"'Por Segmento'!D3","v":"2020-03-01"},{"$f":"'Por Segmento'!E3","v":"Var. %"},{"$f":"'Por Segmento'!F3","v":"1T21"},{"$f":"'Por Segmento'!G3","v":"1T20"},{"$f":"'Por Segmento'!H3","v":"Var. %"},{"$f":"'Por Segmento'!I3","v":"3M21"},{"$f":"'Por Segmento'!J3","v":"3M20"},{"$f":"'Por Segmento'!K3","v":"Var. %"}]
[]
[]
[]
[null,"Residencial",107.12231700000001,106.96404699999999,{"$f":"IF(OR(AND(C7<=0,D7>=0),AND(C7>=0,D7<=0),C7=D7),\"-\",IF((C7/D7-1)*100>0,(C7/D7-1)*100,(C7/D7-1)*100))","v":0.14796560567684747},306.04027399999995,306.58727700000003,{"$f":"IF(OR(AND(F7<=0,G7>=0),AND(F7>=0,G7<=0),F7=G7),\"-\",IF((F7/G7-1)*100>0,(F7/G7-1)*100,(F7/G7-1)*100))","v":-0.17841673188547791},306.04027399999995,306.58727700000003,{"$f":"IF(OR(AND(I7<=0,J7>=0),AND(I7>=0,J7<=0),I7=J7),\"-\",IF((I7/J7-1)*100>0,(I7/J7-1)*100,(I7/J7-1)*100))","v":-0.17841673188547791}]
[null,"Industrial",40.730214509999996,43.678518719000017,{"$f":"IF(OR(AND(C8<=0,D8>=0),AND(C8>=0,D8<=0),C8=D8),\"-\",IF((C8/D8-1)*100>0,(C8/D8-1)*100,(C8/D8-1)*100))","v":-6.7500096053337959},112.858733323,127.86334559100001,{"$f":"IF(OR(AND(F8<=0,G8>=0),AND(F8>=0,G8<=0),F8=G8),\"-\",IF((F8/G8-1)*100>0,(F8/G8-1)*100,(F8/G8-1)*100))","v":-11.734881641526639},112.858733323,127.86334559100001,{"$f":"IF(OR(AND(I8<=0,J8>=0),AND(I8>=0,J8<=0),I8=J8),\"-\",IF((I8/J8-1)*100>0,(I8/J8-1)*100,(I8/J8-1)*100))","v":-11.734881641526639}]
[null,"Cativo Industrial",15.455839999999998,15.752024999999998,-1.8802979299486822,43.183987000000002,46.789288999999997,-7.70540026799722,43.183987000000002,46.789288999999997,-7.70540026799722]
[null,"Livre Industrial",25.274374510000001,27.926493719000014,-9.4967855101538277,69.674746322999994,81.074056591000002,-14.06036745577801,69.674746322999994,81.074056591000002,-14.06036745577801]
[null,"Comercial",49.817905681000006,52.014575956000002,-4.22318212659889,145.34653895900001,159.28534346800001,-8.7508393462454759,145.34653895900001,159.28534346800001,-8.7508393462454759]
[null,"Cativo Comercial",38.248364000000002,42.233792000000001,-9.4365857557853197,110.758484,128.46883099999999,-13.785715073565196,110.758484,128.46883099999999,-13.785715073565196]
[null,"Livre Comercial",11.569541680999999,9.7807839560000023,18.288490299417013,34.588054959000004,30.816512467999996,12.238706423760304,34.588054959000004,30.816512467999996,12.238706423760304]
[null,"Rural",15.085188999999998,11.572353,30.355416914779543,43.640399999999993,38.090917000000005,14.56904542361106,43.640399999999993,38.090917000000005,14.56904542361106]
[null,"Cativo Rural",14.918049999999999,11.572353,28.911121186849375,43.137988,38.090917000000005,13.250064313232457,43.137988,38.090917000000005,13.250064313232457]
[null,"Livre Rural",0.16713900000000001,0,"-",0.50241200000000008,0,"-",0.50241200000000008,0,"-"]
[null,"Outros",48.101671000000003,47.553513000000002,1.1527182019128723,140.38648800000001,143.31070600000001,-2.0404742127221098,140.38648800000001,143.31070600000001,-2.0404742127221098]
[null,"Cativo Outros",48.101671000000003,47.553513000000002,1.1527182019128723,140.38648800000001,143.31070600000001,-2.0404742127221098,140.38648800000001,143.31070600000001,-2.0404742127221098]
[null,"Livre Outros",0,0,"-",0,0,"-",0,0,"-"]
[null,"1      Vendas de energia no mercado cativo",223.84624200000002,224.07572999999999,-0.10241537537331036,643.50722099999996,663.24702000000002,-2.976236365147944,643.50722099999996,663.24702000000002,-2.976236365147944]
[null,"2     Energia associada aos consumidores livres (TUSD)",37.011055190999997,37.707277675000014,-1.8463875594541101,104.765213282,111.890569059,-6.3681468750443004,104.765213282,111.890569059,-6.3681468750443004]
[null,"3     Mercado cativo + TUSD (1+2)",260.85729719100004,261.78300767500002,-0.35361748351109279,748.27243428199995,775.13758905899999,-3.465856275866297,748.27243428199995,775.13758905899999,-3.465856275866297]
[null,{"$f":"'Por Segmento'!B23","v":"4    Fornecimento não faturado"},6.471610000000001,4.3940100000000095,47.282550563152711,5.7499959999999994,5.2405660000000065,9.720896559646274,5.7499959999999994,5.2405660000000065,9.720896559646274]
[null,"5     Mercado cativo + TUSD + fornecimento não faturado (3+4)",267.32890719100004,266.17701767500006,0.43275318284856645,754.02243028199996,780.37815505900005,-3.3773017102211811,754.02243028199996,780.37815505900005,-3.3773017102211811]

{"sheet":"EBO","index":8,"n_rows":24,"n_cols":11,"rows_kept":24,"cut":false,"hidden":false,"merged":[[1,1,2,1],[1,2,1,4],[1,8,1,10],[24,8,24,9],[1,5,1,7],[24,5,24,6]]}
[]
[null,"Descrição\nValores em GWh","Mês",null,null,"Trimestre",null,null,"Acumulado"]
[null,null,{"$f":"'Por Segmento'!C3","v":"2021-03-01"},{"$f":"'Por Segmento'!D3","v":"2020-03-01"},{"$f":"'Por Segmento'!E3","v":"Var. %"},{"$f":"'Por Segmento'!F3","v":"1T21"},{"$f":"'Por Segmento'!G3","v":"1T20"},{"$f":"'Por Segmento'!H3","v":"Var. %"},{"$f":"'Por Segmento'!I3","v":"3M21"},{"$f":"'Por Segmento'!J3","v":"3M20"},{"$f":"'Por Segmento'!K3","v":"Var. %"}]
[]
[]
[]
[null,"Residencial",25.435936999999999,23.939459000000003,{"$f":"IF(OR(AND(C7<=0,D7>=0),AND(C7>=0,D7<=0),C7=D7),\"-\",IF((C7/D7-1)*100>0,(C7/D7-1)*100,(C7/D7-1)*100))","v":6.2510936441796616},72.293804000000009,69.755223000000001,{"$f":"IF(OR(AND(F7<=0,G7>=0),AND(F7>=0,G7<=0),F7=G7),\"-\",IF((F7/G7-1)*100>0,(F7/G7-1)*100,(F7/G7-1)*100))","v":3.6392701375207448},72.293804000000009,69.755223000000001,{"$f":"IF(OR(AND(I7<=0,J7>=0),AND(I7>=0,J7<=0),I7=J7),\"-\",IF((I7/J7-1)*100>0,(I7/J7-1)*100,(I7/J7-1)*100))","v":3.6392701375207448}]
[null,"Industrial",13.054324000000001,10.804029159000002,{"$f":"IF(OR(AND(C8<=0,D8>=0),AND(C8>=0,D8<=0),C8=D8),\"-\",IF((C8/D8-1)*100>0,(C8/D8-1)*100,(C8/D8-1)*100))","v":20.828292925565208},38.098525254999998,34.453184483999998,{"$f":"IF(OR(AND(F8<=0,G8>=0),AND(F8>=0,G8<=0),F8=G8),\"-\",IF((F8/G8-1)*100>0,(F8/G8-1)*100,(F8/G8-1)*100))","v":10.580562655080229},38.098525254999998,34.453184483999998,{"$f":"IF(OR(AND(I8<=0,J8>=0),AND(I8>=0,J8<=0),I8=J8),\"-\",IF((I8/J8-1)*100>0,(I8/J8-1)*100,(I8/J8-1)*100))","v":10.580562655080229}]
[null,"Cativo Industrial",3.8836789999999999,3.9158339999999998,-0.82115329710095164,10.85821,12.559563999999998,-13.546282339100291,10.85821,12.559563999999998,-13.546282339100291]
[null,"Livre Industrial",9.1706450000000004,6.8881951590000003,33.135673254231037,27.240315254999999,21.893620483999999,24.421245334490926,27.240315254999999,21.893620483999999,24.421245334490926]
[null,"Comercial",13.593671999999998,14.116109781999999,-3.7010039597891287,39.010020585999996,43.145826975000006,-9.5856463509122687,39.010020585999996,43.145826975000006,-9.5856463509122687]
[null,"Cativo Comercial",10.632155999999998,11.451314,-7.1533974179731841,30.001458,34.891787999999998,-14.015704784174432,30.001458,34.891787999999998,-14.015704784174432]
[null,"Livre Comercial",2.9615159999999991,2.6647957820000001,11.13482016161489,9.008562586,8.2540389750000003,9.1412654251490153,9.008562586,8.2540389750000003,9.1412654251490153]
[null,"Rural",2.2580480000000001,2.13991,5.5206994686692434,6.5984700000000007,6.5303679999999993,1.0428508776228362,6.5984700000000007,6.5303679999999993,1.0428508776228362]
[null,"Cativo Rural",2.2580480000000001,2.13991,5.5206994686692434,6.5984700000000007,6.5303679999999993,1.0428508776228362,6.5984700000000007,6.5303679999999993,1.0428508776228362]
[null,"Livre Rural",0,0,"-",0,0,"-",0,0,"-"]
[null,"Outros",6.6310089999999997,6.7248370000000008,-1.3952457137622942,19.031114999999996,20.116610000000001,-5.3960135430373484,19.031114999999996,20.116610000000001,-5.3960135430373484]
[null,"Cativo Outros",6.6310089999999997,6.7248370000000008,-1.3952457137622942,19.031114999999996,20.116610000000001,-5.3960135430373484,19.031114999999996,20.116610000000001,-5.3960135430373484]
[null,"Livre Outros",0,0,"-",0,0,"-",0,0,"-"]
[null,"1      Vendas de energia no mercado cativo",48.840828999999999,48.171354000000001,1.3897782487077182,138.78305700000001,143.85355299999998,-3.5247624366983588,138.78305700000001,143.85355299999998,-3.5247624366983588]
[null,"2     Energia associada aos consumidores livres (TUSD)",12.132161,9.5529909410000009,26.998560711814235,36.248877840999995,30.147659459,20.237784595840647,36.248877840999995,30.147659459,20.237784595840647]
[null,"3     Mercado cativo + TUSD (1+2)",60.972989999999996,57.724344940999998,5.6278595492429417,175.03193484100001,174.00121245899999,0.59236505736584011,175.03193484100001,174.00121245899999,0.59236505736584011]
[null,{"$f":"'Por Segmento'!B23","v":"4    Fornecimento não faturado"},-0.22020999999999913,2.1912619999999987,"-",1.8619609999999993,0.8568970000000008,117.29110966662245,1.8619609999999993,0.8568970000000008,117.29110966662245]
[null,"5     Mercado cativo + TUSD + fornecimento não faturado (3+4)",60.752779999999994,59.915606941,1.3972537402890284,176.89389584100002,174.85810945899999,1.164250481889928,176.89389584100002,174.85810945899999,1.164250481889928]

{"sheet":"EPB","index":9,"n_rows":24,"n_cols":11,"rows_kept":24,"cut":false,"hidden":false,"merged":[[1,1,2,1],[1,2,1,4],[1,8,1,10],[24,8,24,9],[1,5,1,7],[24,5,24,6]]}
[]
[null,"Descrição\nValores em GWh","Mês",null,null,"Trimestre",null,null,"Acumulado"]
[null,null,{"$f":"'Por Segmento'!C3","v":"2021-03-01"},{"$f":"'Por Segmento'!D3","v":"2020-03-01"},{"$f":"'Por Segmento'!E3","v":"Var. %"},{"$f":"'Por Segmento'!F3","v":"1T21"},{"$f":"'Por Segmento'!G3","v":"1T20"},{"$f":"'Por Segmento'!H3","v":"Var. %"},{"$f":"'Por Segmento'!I3","v":"3M21"},{"$f":"'Por Segmento'!J3","v":"3M20"},{"$f":"'Por Segmento'!K3","v":"Var. %"}]
[]
[]
[]
[null,"Residencial",176.07749100000001,168.00476,{"$f":"IF(OR(AND(C7<=0,D7>=0),AND(C7>=0,D7<=0),C7=D7),\"-\",IF((C7/D7-1)*100>0,(C7/D7-1)*100,(C7/D7-1)*100))","v":4.8050608804179218},514.03482400000007,495.67289199999999,{"$f":"IF(OR(AND(F7<=0,G7>=0),AND(F7>=0,G7<=0),F7=G7),\"-\",IF((F7/G7-1)*100>0,(F7/G7-1)*100,(F7/G7-1)*100))","v":3.7044454712686026},514.03482400000007,495.67289199999999,{"$f":"IF(OR(AND(I7<=0,J7>=0),AND(I7>=0,J7<=0),I7=J7),\"-\",IF((I7/J7-1)*100>0,(I7/J7-1)*100,(I7/J7-1)*100))","v":3.7044454712686026}]
[null,"Industrial",61.816017000000002,59.444281881000002,{"$f":"IF(OR(AND(C8<=0,D8>=0),AND(C8>=0,D8<=0),C8=D8),\"-\",IF((C8/D8-1)*100>0,(C8/D8-1)*100,(C8/D8-1)*100))","v":3.9898456907056623},194.46078344699998,193.30155961600002,{"$f":"IF(OR(AND(F8<=0,G8>=0),AND(F8>=0,G8<=0),F8=G8),\"-\",IF((F8/G8-1)*100>0,(F8/G8-1)*100,(F8/G8-1)*100))","v":0.59969709158207429},194.46078344699998,193.30155961600002,{"$f":"IF(OR(AND(I8<=0,J8>=0),AND(I8>=0,J8<=0),I8=J8),\"-\",IF((I8/J8-1)*100>0,(I8/J8-1)*100,(I8/J8-1)*100))","v":0.59969709158207429}]
[null,"Cativo Industrial",12.056981,14.065505000000002,-14.279785901750419,42.960402000000002,46.828809999999997,-8.2607437600912714,42.960402000000002,46.828809999999997,-8.2607437600912714]
[null,"Livre Industrial",49.759036000000002,45.378776881,9.652660164214355,151.500381447,146.47274961599999,3.4324690730396457,151.500381447,146.47274961599999,3.4324690730396457]
[null,"Comercial",62.469507,69.51313844500001,-10.132805973899528,193.77656881199999,214.65080892400002,-9.7247432779956728,193.77656881199999,214.65080892400002,-9.7247432779956728]
[null,"Cativo Comercial",51.880482999999998,60.351767000000002,-14.036513628507352,160.90690799999999,185.409513,-13.215397960729236,160.90690799999999,185.409513,-13.215397960729236]
[null,"Livre Comercial",10.589023999999998,9.1613714450000021,15.583393420634263,32.869660811999999,29.241295923999999,12.408358704177648,32.869660811999999,29.241295923999999,12.408358704177648]
[null,"Rural",25.703541000000001,25.604469999999999,0.38692853240078762,91.791387,85.339568,7.5601730254833299,91.791387,85.339568,7.5601730254833299]
[null,"Cativo Rural",25.703541000000001,25.604469999999999,0.38692853240078762,91.791387,85.339568,7.5601730254833299,91.791387,85.339568,7.5601730254833299]
[null,"Livre Rural",0,0,"-",0,0,"-",0,0,"-"]
[null,"Outros",63.082631999999997,61.169578999999992,3.1274581765553755,182.37978499999997,187.39603999999997,-2.6768201718670226,182.37978499999997,187.39603999999997,-2.6768201718670226]
[null,"Cativo Outros",63.082631999999997,61.169578999999992,3.1274581765553755,182.37978499999997,187.39603999999997,-2.6768201718670226,182.37978499999997,187.39603999999997,-2.6768201718670226]
[null,"Livre Outros",0,0,"-",0,0,"-",0,0,"-"]
[null,"1      Vendas de energia no mercado cativo",328.80112800000001,329.19608099999999,-0.11997500055292987,992.07330600000012,1000.646823,-0.85679750366827179,992.07330600000012,1000.646823,-0.85679750366827179]
[null,"2     Energia associada aos consumidores livres (TUSD)",60.348060000000004,54.540148326000001,10.648873998810338,184.370042259,175.71404553999997,4.9261837278850695,184.370042259,175.71404553999997,4.9261837278850695]
[null,"3     Mercado cativo + TUSD (1+2)",389.14918799999998,383.736229326,1.4105935953734106,1176.4433482590002,1176.36086854,7.0114300132040341E-3,1176.4433482590002,1176.36086854,7.0114300132040341E-3]
[null,{"$f":"'Por Segmento'!B23","v":"4    Fornecimento não faturado"},3.2755389999999895,9.0582639999999959,-63.839219082155353,6.2122010000000012,2.9993830000000017,107.11596351649648,6.2122010000000012,2.9993830000000017,107.11596351649648]
[null,"5     Mercado cativo + TUSD + fornecimento não faturado (3+4)",392.42472699999996,392.79449332600001,-9.4137349754841448E-2,1182.6555492590003,1179.36025154,0.27941400557609519,1182.6555492590003,1179.36025154,0.27941400557609519]

{"sheet":"EMT","index":10,"n_rows":24,"n_cols":11,"rows_kept":24,"cut":false,"hidden":false,"merged":[[1,1,2,1],[1,2,1,4],[1,8,1,10],[24,8,24,9],[1,5,1,7],[24,5,24,6]]}
[]
[null,"Descrição\nValores em GWh","Mês",null,null,"Trimestre",null,null,"Acumulado"]
[null,null,{"$f":"'Por Segmento'!C3","v":"2021-03-01"},{"$f":"'Por Segmento'!D3","v":"2020-03-01"},{"$f":"'Por Segmento'!E3","v":"Var. %"},{"$f":"'Por Segmento'!F3","v":"1T21"},{"$f":"'Por Segmento'!G3","v":"1T20"},{"$f":"'Por Segmento'!H3","v":"Var. %"},{"$f":"'Por Segmento'!I3","v":"3M21"},{"$f":"'Por Segmento'!J3","v":"3M20"},{"$f":"'Por Segmento'!K3","v":"Var. %"}]
[]
[]
[]
[null,"Residencial",286.08016000000003,272.42596400000002,{"$f":"IF(OR(AND(C7<=0,D7>=0),AND(C7>=0,D7<=0),C7=D7),\"-\",IF((C7/D7-1)*100>0,(C7/D7-1)*100,(C7/D7-1)*100))","v":5.0120758680696209},819.60496599999999,815.377971,{"$f":"IF(OR(AND(F7<=0,G7>=0),AND(F7>=0,G7<=0),F7=G7),\"-\",IF((F7/G7-1)*100>0,(F7/G7-1)*100,(F7/G7-1)*100))","v":0.51840927156958649},819.60496599999999,815.377971,{"$f":"IF(OR(AND(I7<=0,J7>=0),AND(I7>=0,J7<=0),I7=J7),\"-\",IF((I7/J7-1)*100>0,(I7/J7-1)*100,(I7/J7-1)*100))","v":0.51840927156958649}]
[null,"Industrial",175.25014442900004,173.83232265110999,{"$f":"IF(OR(AND(C8<=0,D8>=0),AND(C8>=0,D8<=0),C8=D8),\"-\",IF((C8/D8-1)*100>0,(C8/D8-1)*100,(C8/D8-1)*100))","v":0.81562609085981119},495.24614219800003,487.42022034265995,{"$f":"IF(OR(AND(F8<=0,G8>=0),AND(F8>=0,G8<=0),F8=G8),\"-\",IF((F8/G8-1)*100>0,(F8/G8-1)*100,(F8/G8-1)*100))","v":1.6055800577658541},495.24614219800003,487.42022034265995,{"$f":"IF(OR(AND(I8<=0,J8>=0),AND(I8>=0,J8<=0),I8=J8),\"-\",IF((I8/J8-1)*100>0,(I8/J8-1)*100,(I8/J8-1)*100))","v":1.6055800577658541}]
[null,"Cativo Industrial",47.681226000000002,50.093992999999998,-4.8164796924852755,134.07498000000001,143.57784000000001,-6.6186118972119896,134.07498000000001,143.57784000000001,-6.6186118972119896]
[null,"Livre Industrial",127.56891842900004,123.73832965110999,3.0957172193051941,361.17116219799999,343.84238034266002,5.0397457806308665,361.17116219799999,343.84238034266002,5.0397457806308665]
[null,"Comercial",162.70867080099998,160.38820599800002,1.4467801971853822,445.72266071199999,474.05265697999999,-5.9761285694460824,445.72266071199999,474.05265697999999,-5.9761285694460824]
[null,"Cativo Comercial",133.78976999999998,140.87424800000002,-5.0289375812675452,367.33398899999992,414.40965500000004,-11.359693344982546,367.33398899999992,414.40965500000004,-11.359693344982546]
[null,"Livre Comercial",28.918900800999992,19.513957998000006,48.195977484239251,78.388671712000004,59.643001980000008,31.429789094596462,78.388671712000004,59.643001980000008,31.429789094596462]
[null,"Rural",112.28101760100002,103.646384947,8.3308575194546144,312.32498539099998,305.17901502400002,2.3415667576087928,312.32498539099998,305.17901502400002,2.3415667576087928]
[null,"Cativo Rural",106.69583000000002,98.937641999999997,7.8414927252865141,293.23979300000002,287.03630099999998,2.1612221096731776,293.23979300000002,287.03630099999998,2.1612221096731776]
[null,"Livre Rural",5.5851876009999994,4.7087429469999993,18.613134415383502,19.085192390999996,18.142714024,5.194803631657563,19.085192390999996,18.142714024,5.194803631657563]
[null,"Outros",77.426592569000007,82.709375333000011,-6.387163175553856,255.73571256899999,238.64252233300002,7.1626758169058613,255.73571256899999,238.64252233300002,7.1626758169058613]
[null,"Cativo Outros",73.344719999999995,78.816996000000017,-6.943015184186951,244.087345,227.58348700000002,7.251781848302552,244.087345,227.58348700000002,7.251781848302552]
[null,"Livre Outros",4.0818725689999997,3.8923793330000001,4.8683136916655601,11.648367569000001,11.059035333000001,5.3289660287226148,11.648367569000001,11.059035333000001,5.3289660287226148]
[null,"1      Vendas de energia no mercado cativo",647.59170599999993,641.14884300000006,1.0048934924148156,1858.3410729999998,1887.9852540000004,-1.5701489689707415,1858.3410729999998,1887.9852540000004,-1.5701489689707415]
[null,"2     Energia associada aos consumidores livres (TUSD)",166.15487940000003,151.85340992911,9.4179442381744352,470.29339387000005,432.68713167966001,8.6913290081808583,470.29339387000005,432.68713167966001,8.6913290081808583]
[null,"3     Mercado cativo + TUSD (1+2)",813.74658539999996,793.00225292911,2.6159235228231381,2328.6344668699999,2320.6723856796602,0.34309371884941875,2328.6344668699999,2320.6723856796602,0.34309371884941875]
[null,{"$f":"'Por Segmento'!B23","v":"4    Fornecimento não faturado"},-2.2856609999999637,13.407699999999954,"-",-53.236121999999973,7.6900929999999939,"-",-53.236121999999973,7.6900929999999939,"-"]
[null,"5     Mercado cativo + TUSD + fornecimento não faturado (3+4)",811.46092439999995,806.40995292910998,0.62635281875471627,2275.3983448700001,2328.3624786796604,-2.2747374729940928,2275.3983448700001,2328.3624786796604,-2.2747374729940928]

{"sheet":"EMS","index":11,"n_rows":24,"n_cols":11,"rows_kept":24,"cut":false,"hidden":false,"merged":[[1,1,2,1],[1,2,1,4],[1,8,1,10],[24,8,24,9],[1,5,1,7],[24,5,24,6]]}
[]
[null,"Descrição\nValores em GWh","Mês",null,null,"Trimestre",null,null,"Acumulado"]
[null,null,{"$f":"'Por Segmento'!C3","v":"2021-03-01"},{"$f":"'Por Segmento'!D3","v":"2020-03-01"},{"$f":"'Por Segmento'!E3","v":"Var. %"},{"$f":"'Por Segmento'!F3","v":"1T21"},{"$f":"'Por Segmento'!G3","v":"1T20"},{"$f":"'Por Segmento'!H3","v":"Var. %"},{"$f":"'Por Segmento'!I3","v":"3M21"},{"$f":"'Por Segmento'!J3","v":"3M20"},{"$f":"'Por Segmento'!K3","v":"Var. %"}]
[]
[]
[]
[null,"Residencial",188.92956000000001,189.42709299999999,{"$f":"IF(OR(AND(C7<=0,D7>=0),AND(C7>=0,D7<=0),C7=D7),\"-\",IF((C7/D7-1)*100>0,(C7/D7-1)*100,(C7/D7-1)*100))","v":-0.26265144659110007},551.42573399999992,564.36704299999997,{"$f":"IF(OR(AND(F7<=0,G7>=0),AND(F7>=0,G7<=0),F7=G7),\"-\",IF((F7/G7-1)*100>0,(F7/G7-1)*100,(F7/G7-1)*100))","v":-2.2930660392938673},551.42573399999992,564.36704299999997,{"$f":"IF(OR(AND(I7<=0,J7>=0),AND(I7>=0,J7<=0),I7=J7),\"-\",IF((I7/J7-1)*100>0,(I7/J7-1)*100,(I7/J7-1)*100))","v":-2.2930660392938673}]
[null,"Industrial",123.507901593,109.93914355999996,{"$f":"IF(OR(AND(C8<=0,D8>=0),AND(C8>=0,D8<=0),C8=D8),\"-\",IF((C8/D8-1)*100>0,(C8/D8-1)*100,(C8/D8-1)*100))","v":12.342062702712253},348.25619058399997,319.17688364300005,{"$f":"IF(OR(AND(F8<=0,G8>=0),AND(F8>=0,G8<=0),F8=G8),\"-\",IF((F8/G8-1)*100>0,(F8/G8-1)*100,(F8/G8-1)*100))","v":9.1107183606458086},348.25619058399997,319.17688364300005,{"$f":"IF(OR(AND(I8<=0,J8>=0),AND(I8>=0,J8<=0),I8=J8),\"-\",IF((I8/J8-1)*100>0,(I8/J8-1)*100,(I8/J8-1)*100))","v":9.1107183606458086}]
[null,"Cativo Industrial",23.109724000000003,23.671979999999994,-2.3751963291621214,65.947061000000005,69.121793000000011,-4.5929537736383752,65.947061000000005,69.121793000000011,-4.5929537736383752]
[null,"Livre Industrial",100.398177593,86.267163559999972,16.380524697756769,282.309129584,250.05509064300003,12.898773169568688,282.309129584,250.05509064300003,12.898773169568688]
[null,"Comercial",98.302553410999991,108.30108795399998,-9.2321644517982975,282.20257616100002,314.17322944599999,-10.176122689185096,282.20257616100002,314.17322944599999,-10.176122689185096]
[null,"Cativo Comercial",79.246524999999991,94.470690999999988,-16.115226679140093,235.33061999999995,274.25138400000003,-14.191638135908214,235.33061999999995,274.25138400000003,-14.191638135908214]
[null,"Livre Comercial",19.056028410999989,13.830396953999994,37.783669365242979,46.871956160999986,39.921845445999992,17.409292174133117,46.871956160999986,39.921845445999992,17.409292174133117]
[null,"Rural",50.156545698999999,54.234501566000006,-7.5191174423118623,150.44303692599999,153.171267481,-1.7811633995510445,150.44303692599999,153.171267481,-1.7811633995510445]
[null,"Cativo Rural",49.013427999999998,53.429713000000007,-8.2655974588521701,147.67858100000001,150.996262,-2.1971941265671813,147.67858100000001,150.996262,-2.1971941265671813]
[null,"Livre Rural",1.1431176989999998,0.80478856600000004,42.039505441979628,2.7644559259999997,2.1750054810000004,27.101101590281431,2.7644559259999997,2.1750054810000004,27.101101590281431]
[null,"Outros",54.306403602000003,59.982021810999996,-9.4621989016701491,164.06365935299999,173.23040976000001,-5.2916519794070744,164.06365935299999,173.23040976000001,-5.2916519794070744]
[null,"Cativo Outros",46.815242000000005,55.132905000000001,-15.086567631435344,142.81560000000002,159.44673200000003,-10.430525474802455,142.81560000000002,159.44673200000003,-10.430525474802455]
[null,"Livre Outros",7.4911616019999991,4.849116811,54.485072106463626,21.248059352999999,13.783677759999998,54.153773201674163,21.248059352999999,13.783677759999998,54.153773201674163]
[null,"1      Vendas de energia no mercado cativo",387.11447899999996,416.13238199999995,-6.973238386432512,1143.197596,1218.1832140000001,-6.155528752836692,1143.197596,1218.1832140000001,-6.155528752836692]
[null,"2     Energia associada aos consumidores livres (TUSD)",128.08848530499998,105.75146589099997,21.122184194612672,353.19360102399997,305.93561933000001,15.44703483611849,353.19360102399997,305.93561933000001,15.44703483611849]
[null,"3     Mercado cativo + TUSD (1+2)",515.20296430499991,521.88384789099996,-1.2801476062151318,1496.3911970239999,1524.1188333300001,-1.819256851870199,1496.3911970239999,1524.1188333300001,-1.819256851870199]
[null,{"$f":"'Por Segmento'!B23","v":"4    Fornecimento não faturado"},22.439652000000002,15.141442999999999,48.200221075362528,-11.377657000000006,12.086154000000009,"-",-11.377657000000006,12.086154000000009,"-"]
[null,"5     Mercado cativo + TUSD + fornecimento não faturado (3+4)",537.64261630499993,537.02529089099994,0.11495276376569663,1485.0135400239999,1536.2049873300002,-3.3323318000010871,1485.0135400239999,1536.2049873300002,-3.3323318000010871]

{"sheet":"ETO","index":12,"n_rows":24,"n_cols":11,"rows_kept":24,"cut":false,"hidden":false,"merged":[[1,1,2,1],[1,2,1,4],[1,8,1,10],[24,8,24,9],[1,5,1,7],[24,5,24,6]]}
[]
[null,"Descrição\nValores em GWh","Mês",null,null,"Trimestre",null,null,"Acumulado"]
[null,null,{"$f":"'Por Segmento'!C3","v":"2021-03-01"},{"$f":"'Por Segmento'!D3","v":"2020-03-01"},{"$f":"'Por Segmento'!E3","v":"Var. %"},{"$f":"'Por Segmento'!F3","v":"1T21"},{"$f":"'Por Segmento'!G3","v":"1T20"},{"$f":"'Por Segmento'!H3","v":"Var. %"},{"$f":"'Por Segmento'!I3","v":"3M21"},{"$f":"'Por Segmento'!J3","v":"3M20"},{"$f":"'Por Segmento'!K3","v":"Var. %"}]
[]
[]
[]
[null,"Residencial",85.721639999999994,85.053790000000006,{"$f":"IF(OR(AND(C7<=0,D7>=0),AND(C7>=0,D7<=0),C7=D7),\"-\",IF((C7/D7-1)*100>0,(C7/D7-1)*100,(C7/D7-1)*100))","v":0.78520898363256819},258.10180600000007,253.98120700000001,{"$f":"IF(OR(AND(F7<=0,G7>=0),AND(F7>=0,G7<=0),F7=G7),\"-\",IF((F7/G7-1)*100>0,(F7/G7-1)*100,(F7/G7-1)*100))","v":1.6224031095340319},258.10180600000007,253.98120700000001,{"$f":"IF(OR(AND(I7<=0,J7>=0),AND(I7>=0,J7<=0),I7=J7),\"-\",IF((I7/J7-1)*100>0,(I7/J7-1)*100,(I7/J7-1)*100))","v":1.6224031095340319}]
[null,"Industrial",26.208948465999999,24.338421349999997,{"$f":"IF(OR(AND(C8<=0,D8>=0),AND(C8>=0,D8<=0),C8=D8),\"-\",IF((C8/D8-1)*100>0,(C8/D8-1)*100,(C8/D8-1)*100))","v":7.6854907271954209},75.218638208000002,69.578745334999979,{"$f":"IF(OR(AND(F8<=0,G8>=0),AND(F8>=0,G8<=0),F8=G8),\"-\",IF((F8/G8-1)*100>0,(F8/G8-1)*100,(F8/G8-1)*100))","v":8.1057697229889527},75.218638208000002,69.578745334999979,{"$f":"IF(OR(AND(I8<=0,J8>=0),AND(I8>=0,J8<=0),I8=J8),\"-\",IF((I8/J8-1)*100>0,(I8/J8-1)*100,(I8/J8-1)*100))","v":8.1057697229889527}]
[null,"Cativo Industrial",4.9213040000000001,8.690275999999999,-43.369991931211381,16.652041999999998,23.295365999999998,-28.517791907626609,16.652041999999998,23.295365999999998,-28.517791907626609]
[null,"Livre Industrial",21.287644465999996,15.648145349999998,36.039409079236329,58.566596208,46.283379334999992,26.539153038272879,58.566596208,46.283379334999992,26.539153038272879]
[null,"Comercial",30.891832147000002,35.224988814999996,-12.301371309888932,95.496375723,104.19603104100001,-8.3493154500067224,95.496375723,104.19603104100001,-8.3493154500067224]
[null,"Cativo Comercial",25.927230999999999,32.102783000000002,-19.236811961131227,81.718513999999999,94.326300999999987,-13.366141644841967,81.718513999999999,94.326300999999987,-13.366141644841967]
[null,"Livre Comercial",4.9646011469999998,3.1222058150000005,59.009413253558975,13.777861722999999,9.8697300410000004,39.597148713948286,13.777861722999999,9.8697300410000004,39.597148713948286]
[null,"Rural",16.013855230000001,18.548792470999999,-13.66631949202748,57.894463724999994,56.427982460000003,2.5988546835597592,57.894463724999994,56.427982460000003,2.5988546835597592]
[null,"Cativo Rural",15.475447000000001,18.129413999999997,-14.639011498110177,56.404581,55.194890999999998,2.1916702399140675,56.404581,55.194890999999998,2.1916702399140675]
[null,"Livre Rural",0.53840823000000004,0.41937847099999997,28.382419993133134,1.489882725,1.23309146,20.824997441795603,1.489882725,1.23309146,20.824997441795603]
[null,"Outros",24.836249523000003,28.925656999999998,-14.137647684199518,83.008260457000006,84.607776000000015,-1.8905065451667369,83.008260457000006,84.607776000000015,-1.8905065451667369]
[null,"Cativo Outros",22.518170000000001,28.925656999999998,-22.151569452683461,76.765097999999995,84.607776000000015,-9.2694529637559757,76.765097999999995,84.607776000000015,-9.2694529637559757]
[null,"Livre Outros",2.3180795230000002,0,"-",6.2431624570000004,0,"-",6.2431624570000004,0,"-"]
[null,"1      Vendas de energia no mercado cativo",154.56379200000001,172.90192000000002,-10.606086965373207,489.64204100000006,511.40554099999997,-4.2556245983263459,489.64204100000006,511.40554099999997,-4.2556245983263459]
[null,"2     Energia associada aos consumidores livres (TUSD)",29.108733365999999,19.189729635999999,51.689127039038183,80.077503112999992,57.386200835999986,39.541391391020795,80.077503112999992,57.386200835999986,39.541391391020795]
[null,"3     Mercado cativo + TUSD (1+2)",183.672525366,192.09164963600003,-4.3828684307483767,569.7195441130001,568.79174183599991,0.16311809907880725,569.7195441130001,568.79174183599991,0.16311809907880725]
[null,{"$f":"'Por Segmento'!B23","v":"4    Fornecimento não faturado"},2.3805510000000067,5.516534,-56.846980368470376,-8.559736999999993,0.89934100000000039,"-",-8.559736999999993,0.89934100000000039,"-"]
[null,"5     Mercado cativo + TUSD + fornecimento não faturado (3+4)",186.053076366,197.60818363600004,-5.8474841767104486,561.15980711300006,569.69108283599996,-1.4975266385652497,561.15980711300006,569.69108283599996,-1.4975266385652497]

{"sheet":"ESS","index":13,"n_rows":24,"n_cols":11,"rows_kept":24,"cut":false,"hidden":false,"merged":[[1,1,2,1],[1,2,1,4],[1,8,1,10],[24,8,24,9],[1,5,1,7],[24,5,24,6]]}
[]
[null,"Descrição\nValores em GWh","Mês",null,null,"Trimestre",null,null,"Acumulado"]
[null,null,{"$f":"'Por Segmento'!C3","v":"2021-03-01"},{"$f":"'Por Segmento'!D3","v":"2020-03-01"},{"$f":"'Por Segmento'!E3","v":"Var. %"},{"$f":"'Por Segmento'!F3","v":"1T21"},{"$f":"'Por Segmento'!G3","v":"1T20"},{"$f":"'Por Segmento'!H3","v":"Var. %"},{"$f":"'Por Segmento'!I3","v":"3M21"},{"$f":"'Por Segmento'!J3","v":"3M20"},{"$f":"'Por Segmento'!K3","v":"Var. %"}]
[]
[]
[]
[null,"Residencial",145.17804899999999,131.13546099999999,{"$f":"IF(OR(AND(C7<=0,D7>=0),AND(C7>=0,D7<=0),C7=D7),\"-\",IF((C7/D7-1)*100>0,(C7/D7-1)*100,(C7/D7-1)*100))","v":10.708459704884854},417.903704,401.25239300000004,{"$f":"IF(OR(AND(F7<=0,G7>=0),AND(F7>=0,G7<=0),F7=G7),\"-\",IF((F7/G7-1)*100>0,(F7/G7-1)*100,(F7/G7-1)*100))","v":4.149834690207066},417.903704,401.25239300000004,{"$f":"IF(OR(AND(I7<=0,J7>=0),AND(I7>=0,J7<=0),I7=J7),\"-\",IF((I7/J7-1)*100>0,(I7/J7-1)*100,(I7/J7-1)*100))","v":4.149834690207066}]
[null,"Industrial",122.60571400700003,115.803603118,{"$f":"IF(OR(AND(C8<=0,D8>=0),AND(C8>=0,D8<=0),C8=D8),\"-\",IF((C8/D8-1)*100>0,(C8/D8-1)*100,(C8/D8-1)*100))","v":5.8738335473628611},350.40891425100006,342.66034172500008,{"$f":"IF(OR(AND(F8<=0,G8>=0),AND(F8>=0,G8<=0),F8=G8),\"-\",IF((F8/G8-1)*100>0,(F8/G8-1)*100,(F8/G8-1)*100))","v":2.2612983127818564},350.40891425100006,342.66034172500008,{"$f":"IF(OR(AND(I8<=0,J8>=0),AND(I8>=0,J8<=0),I8=J8),\"-\",IF((I8/J8-1)*100>0,(I8/J8-1)*100,(I8/J8-1)*100))","v":2.2612983127818564}]
[null,"Cativo Industrial",25.305119000000001,32.898175999999999,-23.080480206562203,69.431182000000007,98.640364999999989,-29.611795333482384,69.431182000000007,98.640364999999989,-29.611795333482384]
[null,"Livre Industrial",97.300595007000027,82.905427117999992,17.363360143493711,280.97773225100002,244.01997672500002,15.145381137237713,280.97773225100002,244.01997672500002,15.145381137237713]
[null,"Comercial",73.099348293999995,72.054099293000007,1.4506447395166155,207.57430887300001,219.82216244099999,-5.5717100732676546,207.57430887300001,219.82216244099999,-5.5717100732676546]
[null,"Cativo Comercial",61.314934999999998,62.851925999999999,-2.4454159129506992,173.845597,192.57362400000002,-9.7251257004957399,173.845597,192.57362400000002,-9.7251257004957399]
[null,"Livre Comercial",11.784413294,9.2021732929999995,28.06119727134768,33.728711873000009,27.248538441000004,23.781728499057753,33.728711873000009,27.248538441000004,23.781728499057753]
[null,"Rural",29.137481999999999,27.979376999999999,4.1391379086103353,81.622484999999998,80.559859000000003,1.3190514645761597,81.622484999999998,80.559859000000003,1.3190514645761597]
[null,"Cativo Rural",29.137481999999999,27.979376999999999,4.1391379086103353,81.622484999999998,80.559859000000003,1.3190514645761597,81.622484999999998,80.559859000000003,1.3190514645761597]
[null,"Livre Rural",0,0,"-",0,0,"-",0,0,"-"]
[null,"Outros",37.258610193000003,40.800618303999997,-8.6812608686686055,124.695721081,120.658435004,3.3460454520781502,124.695721081,120.658435004,3.3460454520781502]
[null,"Cativo Outros",35.104379000000002,40.052917999999998,-12.355002449509412,118.360801,118.52674499999999,-0.14000553208476374,118.360801,118.52674499999999,-0.14000553208476374]
[null,"Livre Outros",2.1542311930000002,0.74770030399999998,188.11425934634906,6.3349200809999999,2.1316900040000002,197.17829839765008,6.3349200809999999,2.1316900040000002,197.17829839765008]
[null,"1      Vendas de energia no mercado cativo",296.03996399999994,294.91785799999997,0.38048085918214181,861.163769,891.55298600000003,-3.4085710526687629,861.163769,891.55298600000003,-3.4085710526687629]
[null,"2     Energia associada aos consumidores livres (TUSD)",111.23923949400003,92.855300714999998,19.798480687091534,321.04136420500004,273.40020517000005,17.425429145298832,321.04136420500004,273.40020517000005,17.425429145298832]
[null,"3     Mercado cativo + TUSD (1+2)",407.27920349399994,387.77315871499997,5.030272039364192,1182.205133205,1164.9531911700001,1.4809128955364459,1182.205133205,1164.9531911700001,1.4809128955364459]
[null,{"$f":"'Por Segmento'!B23","v":"4    Fornecimento não faturado"},-7.0301657999999883,5.2621379999999913,"-",-9.6209349999999976,1.2757140000000071,"-",-9.6209349999999976,1.2757140000000071,"-"]
[null,"5     Mercado cativo + TUSD + fornecimento não faturado (3+4)",400.24903769399998,393.03529671499996,1.8353926579349755,1172.5841982050001,1166.2289051700002,0.54494387909838071,1172.5841982050001,1166.2289051700002,0.54494387909838071]

{"sheet":"EAC","index":14,"n_rows":24,"n_cols":11,"rows_kept":24,"cut":false,"hidden":false,"merged":[[1,1,2,1],[1,2,1,4],[1,8,1,10],[24,8,24,9],[1,5,1,7],[24,5,24,6]]}
[]
[null,"Descrição\nValores em GWh","Mês",null,null,"Trimestre",null,null,"Acumulado"]
[null,null,{"$f":"'Por Segmento'!C3","v":"2021-03-01"},{"$f":"'Por Segmento'!D3","v":"2020-03-01"},{"$f":"'Por Segmento'!E3","v":"Var. %"},{"$f":"'Por Segmento'!F3","v":"1T21"},{"$f":"'Por Segmento'!G3","v":"1T20"},{"$f":"'Por Segmento'!H3","v":"Var. %"},{"$f":"'Por Segmento'!I3","v":"3M21"},{"$f":"'Por Segmento'!J3","v":"3M20"},{"$f":"'Por Segmento'!K3","v":"Var. %"}]
[]
[]
[]
[null,"Residencial",45.393743000000001,45.461148000000001,{"$f":"IF(OR(AND(C7<=0,D7>=0),AND(C7>=0,D7<=0),C7=D7),\"-\",IF((C7/D7-1)*100>0,(C7/D7-1)*100,(C7/D7-1)*100))","v":-0.14826946297088472},138.05852100000001,132.43949800000001,{"$f":"IF(OR(AND(F7<=0,G7>=0),AND(F7>=0,G7<=0),F7=G7),\"-\",IF((F7/G7-1)*100>0,(F7/G7-1)*100,(F7/G7-1)*100))","v":4.2427093766241875},138.05852100000001,132.43949800000001,{"$f":"IF(OR(AND(I7<=0,J7>=0),AND(I7>=0,J7<=0),I7=J7),\"-\",IF((I7/J7-1)*100>0,(I7/J7-1)*100,(I7/J7-1)*100))","v":4.2427093766241875}]
[null,"Industrial",2.7529725559999996,3.3476792750000004,{"$f":"IF(OR(AND(C8<=0,D8>=0),AND(C8>=0,D8<=0),C8=D8),\"-\",IF((C8/D8-1)*100>0,(C8/D8-1)*100,(C8/D8-1)*100))","v":-17.764745967189487},9.2823944899999979,9.7265042749999999,{"$f":"IF(OR(AND(F8<=0,G8>=0),AND(F8>=0,G8<=0),F8=G8),\"-\",IF((F8/G8-1)*100>0,(F8/G8-1)*100,(F8/G8-1)*100))","v":-4.565975323133264},9.2823944899999979,9.7265042749999999,{"$f":"IF(OR(AND(I8<=0,J8>=0),AND(I8>=0,J8<=0),I8=J8),\"-\",IF((I8/J8-1)*100>0,(I8/J8-1)*100,(I8/J8-1)*100))","v":-4.565975323133264}]
[null,"Cativo Industrial",2.0838349999999997,2.8110130000000004,-25.868894949970013,7.3769460000000002,9.189838,-19.727137736269128,7.3769460000000002,9.189838,-19.727137736269128]
[null,"Livre Industrial",0.66913755600000002,0.53666627500000008,24.684107642128229,1.9054484900000002,0.53666627500000008,255.0527727869615,1.9054484900000002,0.53666627500000008,255.0527727869615]
[null,"Comercial",18.001602709,21.969658504000002,-18.061526965826712,58.887083797999999,66.795748915000004,-11.840072527765299,58.887083797999999,66.795748915000004,-11.840072527765299]
[null,"Cativo Comercial",14.470908,18.835898,-23.173782317147829,48.728740000000002,57.015357999999999,-14.53401029245488,48.728740000000002,57.015357999999999,-14.53401029245488]
[null,"Livre Comercial",3.5306947089999996,3.1337605040000009,12.666386103639482,10.158343798000001,9.7803909149999999,3.8643944427654953,10.158343798000001,9.7803909149999999,3.8643944427654953]
[null,"Rural",4.7072959999999995,4.7241970000000002,-0.3577539209309144,14.341506999999998,13.764708999999998,4.190411871402433,14.341506999999998,13.764708999999998,4.190411871402433]
[null,"Cativo Rural",4.7072959999999995,4.7241970000000002,-0.3577539209309144,14.341506999999998,13.764708999999998,4.190411871402433,14.341506999999998,13.764708999999998,4.190411871402433]
[null,"Livre Rural",0,0,"-",0,0,"-",0,0,"-"]
[null,"Outros",13.926931999999999,18.98498,-26.642366755192793,43.806927000000002,55.862724,-21.581111941479968,43.806927000000002,55.862724,-21.581111941479968]
[null,"Cativo Outros",13.926931999999999,18.98498,-26.642366755192793,43.806927000000002,55.862724,-21.581111941479968,43.806927000000002,55.862724,-21.581111941479968]
[null,"Livre Outros",0,0,"-",0,0,"-",0,0,"-"]
[null,"1      Vendas de energia no mercado cativo",80.582713999999996,90.817236000000008,-11.269360807237083,252.31264100000004,268.27212700000001,-5.9489914880348271,252.31264100000004,268.27212700000001,-5.9489914880348271]
[null,"2     Energia associada aos consumidores livres (TUSD)",4.1998322649999995,3.6704267790000009,14.423540309506834,12.063792288,10.31705719,16.930555543426241,12.063792288,10.31705719,16.930555543426241]
[null,"3     Mercado cativo + TUSD (1+2)",84.782546264999993,94.487662779000004,-10.271305510751805,264.37643328800004,278.58918419000003,-5.1016879723179702,264.37643328800004,278.58918419000003,-5.1016879723179702]
[null,{"$f":"'Por Segmento'!B23","v":"4    Fornecimento não faturado"},4.4015970000000015,-1.0466019999999954,"-",-8.049824000000001,-1.2450159999999997,546.56389958040722,-8.049824000000001,-1.2450159999999997,546.56389958040722]
[null,"5     Mercado cativo + TUSD + fornecimento não faturado (3+4)",89.184143264999989,93.441060779000011,-4.5557247301249877,256.32660928800004,277.34416819,-7.5781506563359464,256.32660928800004,277.34416819,-7.5781506563359464]

{"sheet":"ERO","index":15,"n_rows":24,"n_cols":11,"rows_kept":24,"cut":false,"hidden":false,"merged":[[1,1,2,1],[1,2,1,4],[1,8,1,10],[24,8,24,9],[1,5,1,7],[24,5,24,6]]}
[]
[null,"Descrição\nValores em GWh","Mês",null,null,"Trimestre",null,null,"Acumulado"]
[null,null,{"$f":"'Por Segmento'!C3","v":"2021-03-01"},{"$f":"'Por Segmento'!D3","v":"2020-03-01"},{"$f":"'Por Segmento'!E3","v":"Var. %"},{"$f":"'Por Segmento'!F3","v":"1T21"},{"$f":"'Por Segmento'!G3","v":"1T20"},{"$f":"'Por Segmento'!H3","v":"Var. %"},{"$f":"'Por Segmento'!I3","v":"3M21"},{"$f":"'Por Segmento'!J3","v":"3M20"},{"$f":"'Por Segmento'!K3","v":"Var. %"}]
[]
[]
[]
[null,"Residencial",113.11433100000001,111.06922499999999,{"$f":"IF(OR(AND(C7<=0,D7>=0),AND(C7>=0,D7<=0),C7=D7),\"-\",IF((C7/D7-1)*100>0,(C7/D7-1)*100,(C7/D7-1)*100))","v":1.8412895201168622},323.94036699999998,334.45394399999998,{"$f":"IF(OR(AND(F7<=0,G7>=0),AND(F7>=0,G7<=0),F7=G7),\"-\",IF((F7/G7-1)*100>0,(F7/G7-1)*100,(F7/G7-1)*100))","v":-3.1435051637483502},323.94036699999998,334.45394399999998,{"$f":"IF(OR(AND(I7<=0,J7>=0),AND(I7>=0,J7<=0),I7=J7),\"-\",IF((I7/J7-1)*100>0,(I7/J7-1)*100,(I7/J7-1)*100))","v":-3.1435051637483502}]
[null,"Industrial",30.090261342999998,38.032060165999994,{"$f":"IF(OR(AND(C8<=0,D8>=0),AND(C8>=0,D8<=0),C8=D8),\"-\",IF((C8/D8-1)*100>0,(C8/D8-1)*100,(C8/D8-1)*100))","v":-20.881852806122314},100.95475245099998,112.35270608700002,{"$f":"IF(OR(AND(F8<=0,G8>=0),AND(F8>=0,G8<=0),F8=G8),\"-\",IF((F8/G8-1)*100>0,(F8/G8-1)*100,(F8/G8-1)*100))","v":-10.14479671470847},100.95475245099998,112.35270608700002,{"$f":"IF(OR(AND(I8<=0,J8>=0),AND(I8>=0,J8<=0),I8=J8),\"-\",IF((I8/J8-1)*100>0,(I8/J8-1)*100,(I8/J8-1)*100))","v":-10.14479671470847}]
[null,"Cativo Industrial",14.553402999999999,24.065852,-39.526749354230219,57.688074,71.325973000000005,-19.120522898439816,57.688074,71.325973000000005,-19.120522898439816]
[null,"Livre Industrial",15.536858343,13.966208165999999,11.246074513078398,43.266678450999997,41.026733087000004,5.4597214924474669,43.266678450999997,41.026733087000004,5.4597214924474669]
[null,"Comercial",46.117928692999996,56.636663540000001,-18.572306681821182,144.56830427600002,176.62463466800003,-18.149410727589643,144.56830427600002,176.62463466800003,-18.149410727589643]
[null,"Cativo Comercial",41.630615999999996,53.360892,-21.982908381666487,131.30714500000002,165.955217,-20.877964927128488,131.30714500000002,165.955217,-20.877964927128488]
[null,"Livre Comercial",4.4873126929999998,3.2757715399999991,36.984909912246231,13.261159275999999,10.669417667999998,24.291312690599987,13.261159275999999,10.669417667999998,24.291312690599987]
[null,"Rural",28.345693000000001,27.659728999999999,2.4800098366835055,84.420974000000001,83.322513000000001,1.3183243765103381,84.420974000000001,83.322513000000001,1.3183243765103381]
[null,"Cativo Rural",28.345693000000001,27.659728999999999,2.4800098366835055,84.420974000000001,83.322513000000001,1.3183243765103381,84.420974000000001,83.322513000000001,1.3183243765103381]
[null,"Livre Rural",0,0,"-",0,0,"-",0,0,"-"]
[null,"Outros",32.181660000000001,33.056424999999997,-2.6462782953691977,98.995825000000011,99.634614999999997,-0.64113260235911795,98.995825000000011,99.634614999999997,-0.64113260235911795]
[null,"Cativo Outros",32.181660000000001,33.056424999999997,-2.6462782953691977,98.995825000000011,99.634614999999997,-0.64113260235911795,98.995825000000011,99.634614999999997,-0.64113260235911795]
[null,"Livre Outros",0,0,"-",0,0,"-",0,0,"-"]
[null,"1      Vendas de energia no mercado cativo",229.825703,249.21212299999999,-7.7790838449700921,696.35238499999991,754.69226200000003,-7.7302868914270295,696.35238499999991,754.69226200000003,-7.7302868914270295]
[null,"2     Energia associada aos consumidores livres (TUSD)",20.024171035999998,17.241979705999999,16.136147805764047,56.527837726999998,51.696150755000005,9.3463186357887196,56.527837726999998,51.696150755000005,9.3463186357887196]
[null,"3     Mercado cativo + TUSD (1+2)",249.84987403600002,266.45410270600001,-6.2315530147121656,752.88022272699993,806.38841275499999,-6.6355355783438208,752.88022272699993,806.38841275499999,-6.6355355783438208]
[null,{"$f":"'Por Segmento'!B23","v":"4    Fornecimento não faturado"},15.156979000000007,7.4036820000000008,104.72217742469225,14.072886000000013,-5.1193340000000029,"-",14.072886000000013,-5.1193340000000029,"-"]
[null,"5     Mercado cativo + TUSD + fornecimento não faturado (3+4)",265.00685303600005,273.85778470600002,-3.2319445216800746,766.95310872699997,801.26907875500001,-4.2827023952203058,766.95310872699997,801.26907875500001,-4.2827023952203058]